BEGIN:VCALENDAR
VERSION:2.0
PRODID:-//SPLD - ECPv6.15.20//NONSGML v1.0//EN
CALSCALE:GREGORIAN
METHOD:PUBLISH
X-ORIGINAL-URL:https://www.spld.org
X-WR-CALDESC:Events for SPLD
REFRESH-INTERVAL;VALUE=DURATION:PT1H
X-Robots-Tag:noindex
X-PUBLISHED-TTL:PT1H
BEGIN:VTIMEZONE
TZID:America/Denver
BEGIN:DAYLIGHT
TZOFFSETFROM:-0700
TZOFFSETTO:-0600
TZNAME:MDT
DTSTART:20230312T090000
END:DAYLIGHT
BEGIN:STANDARD
TZOFFSETFROM:-0600
TZOFFSETTO:-0700
TZNAME:MST
DTSTART:20231105T080000
END:STANDARD
BEGIN:DAYLIGHT
TZOFFSETFROM:-0700
TZOFFSETTO:-0600
TZNAME:MDT
DTSTART:20240310T090000
END:DAYLIGHT
BEGIN:STANDARD
TZOFFSETFROM:-0600
TZOFFSETTO:-0700
TZNAME:MST
DTSTART:20241103T080000
END:STANDARD
BEGIN:DAYLIGHT
TZOFFSETFROM:-0700
TZOFFSETTO:-0600
TZNAME:MDT
DTSTART:20250309T090000
END:DAYLIGHT
BEGIN:STANDARD
TZOFFSETFROM:-0600
TZOFFSETTO:-0700
TZNAME:MST
DTSTART:20251102T080000
END:STANDARD
END:VTIMEZONE
BEGIN:VEVENT
DTSTART;TZID=America/Denver:20241210T140000
DTEND;TZID=America/Denver:20241210T150000
DTSTAMP:20260423T032440
CREATED:20230320T154407Z
LAST-MODIFIED:20241210T193740Z
UID:1538-1733839200-1733842800@www.spld.org
SUMMARY:Board of Trustees Meeting-Special Budget Meeting-Finalize Budget
DESCRIPTION:https://us02web.zoom.us/j/81044833204
URL:https://www.spld.org/event/board-of-trustees-meeting-3/
LOCATION:SPLD-Meeting Room\, 415 Walsen Ave\, Walsenburg\, CO\, 81089\, United States
CATEGORIES:Adults,Board of Trustees,Home Page
ATTACH;FMTTYPE=image/png:https://www.spld.org/wp-content/uploads/2023/03/Meeting-Company-28.png
END:VEVENT
BEGIN:VEVENT
DTSTART;TZID=America/Denver:20241219T093000
DTEND;TZID=America/Denver:20241219T120000
DTSTAMP:20260423T032440
CREATED:20221201T070001Z
LAST-MODIFIED:20241205T232544Z
UID:501-1734600600-1734609600@www.spld.org
SUMMARY:Free Legal Self-Help Clinic
DESCRIPTION:Volunteer attorneys will assist one-on-one at the Library.  Please contact Colorado Legal Services at (719) 545-6708 ext. 810\, option 3\, to be added to the sign-up sheet.  Available slots fill quickly! \nA FREE legal clinic for parties who are over the age of 60 and/or are low-income and have no attorney.  Volunteer attorneys will answer questions\, help fill out forms\, and explain the process and procedure for a variety of issues including; Public Benefits Appeals\, Family Matters\, Consumer Issues\, Health issues\, and Housing. \nThe volunteer attorneys do not represent you just because they help you at this clinic.  This clinic is information only\, and is no substitute for legal representation.  You have the right to retain an attorney of your choice at any time\, and are advised to do so. \nwww.checkerboard.com  for one-click access to all forms\, statutes\, videos\, instructions & flowcharts
URL:https://www.spld.org/event/free-legal-self-help-clinic-11/
LOCATION:SPLD – Archive Room\, 415 Walsen Ave\, Walsenburg\, CO\, 81089\, United States
CATEGORIES:Adults,Home Page
ATTACH;FMTTYPE=application/pdf:https://www.spld.org/wp-content/uploads/2022/12/1.Region14.HuerfanoLegalClinic.pdf
END:VEVENT
BEGIN:VEVENT
DTSTART;TZID=America/Denver:20241223T093000
DTEND;TZID=America/Denver:20241223T170000
DTSTAMP:20260423T032440
CREATED:20241107T231327Z
LAST-MODIFIED:20241107T231408Z
UID:2705-1734946200-1734973200@www.spld.org
SUMMARY:Spanish Peaks Library is Closed
DESCRIPTION:Closed For Winter Cleaning and So that Staff can visit with Family
URL:https://www.spld.org/event/spanish-peaks-library-is-closed/
LOCATION:Spanish Peaks Library\, 415 Walsen Ave\, Walsenburg\, CO\, 81089\, United States
CATEGORIES:Adults,Home Page,Kids,Teens
ATTACH;FMTTYPE=image/png:https://www.spld.org/wp-content/uploads/2024/11/Winter-Holiday-Closure-Facebook-Post.png
END:VEVENT
BEGIN:VEVENT
DTSTART;TZID=America/Denver:20241224T093000
DTEND;TZID=America/Denver:20241224T170000
DTSTAMP:20260423T032440
CREATED:20241107T232648Z
LAST-MODIFIED:20241107T232649Z
UID:2707-1735032600-1735059600@www.spld.org
SUMMARY:Spanish Peaks Library is Closed
DESCRIPTION:Closed For Winter Cleaning and So that Staff can visit with Family
URL:https://www.spld.org/event/spanish-peaks-library-is-closed-2/
LOCATION:Spanish Peaks Library\, 415 Walsen Ave\, Walsenburg\, CO\, 81089\, United States
CATEGORIES:Adults,Home Page,Kids,Teens
ATTACH;FMTTYPE=image/png:https://www.spld.org/wp-content/uploads/2024/11/Christmas-Tree-Closed-for-business-Facebook-Post-1.png
END:VEVENT
BEGIN:VEVENT
DTSTART;TZID=America/Denver:20241225T093000
DTEND;TZID=America/Denver:20241225T180000
DTSTAMP:20260423T032440
CREATED:20241107T232821Z
LAST-MODIFIED:20241107T232821Z
UID:2710-1735119000-1735149600@www.spld.org
SUMMARY:Spanish Peaks Library is Closed
DESCRIPTION:Closed For Winter Cleaning and So that Staff can visit with Family
URL:https://www.spld.org/event/spanish-peaks-library-is-closed-3/
LOCATION:Spanish Peaks Library\, 415 Walsen Ave\, Walsenburg\, CO\, 81089\, United States
CATEGORIES:Adults,Home Page,Kids,Teens
ATTACH;FMTTYPE=image/png:https://www.spld.org/wp-content/uploads/2024/11/Christmas-Tree-Closed-for-business-Facebook-Post-1.png
END:VEVENT
BEGIN:VEVENT
DTSTART;TZID=America/Denver:20241226T093000
DTEND;TZID=America/Denver:20241226T170000
DTSTAMP:20260423T032440
CREATED:20241107T232922Z
LAST-MODIFIED:20241107T232951Z
UID:2712-1735205400-1735232400@www.spld.org
SUMMARY:Spanish Peaks Library is Closed
DESCRIPTION:Closed For Winter Cleaning and So that Staff can visit with Family
URL:https://www.spld.org/event/spanish-peaks-library-is-closed-4/
LOCATION:Spanish Peaks Library\, 415 Walsen Ave\, Walsenburg\, CO\, 81089\, United States
CATEGORIES:Adults,Home Page,Kids,Teens
ATTACH;FMTTYPE=image/png:https://www.spld.org/wp-content/uploads/2024/11/Winter-Holiday-Closure-Facebook-Post.png
END:VEVENT
BEGIN:VEVENT
DTSTART;TZID=America/Denver:20241227T093000
DTEND;TZID=America/Denver:20241227T170000
DTSTAMP:20260423T032440
CREATED:20241107T233043Z
LAST-MODIFIED:20241107T233102Z
UID:2714-1735291800-1735318800@www.spld.org
SUMMARY:Spanish Peaks Library is Closed
DESCRIPTION:Closed For Winter Cleaning and So that Staff can visit with Family
URL:https://www.spld.org/event/spanish-peaks-library-is-closed-5/
LOCATION:Spanish Peaks Library\, 415 Walsen Ave\, Walsenburg\, CO\, 81089\, United States
CATEGORIES:Adults,Home Page,Kids,Teens
ATTACH;FMTTYPE=image/png:https://www.spld.org/wp-content/uploads/2024/11/Winter-Holiday-Closure-Facebook-Post.png
END:VEVENT
BEGIN:VEVENT
DTSTART;TZID=America/Denver:20241228T120000
DTEND;TZID=America/Denver:20241228T140000
DTSTAMP:20260423T032440
CREATED:20240211T192511Z
LAST-MODIFIED:20241206T224259Z
UID:2250-1735387200-1735394400@www.spld.org
SUMMARY:Gardner Bookmobile is CLOSED
DESCRIPTION:We have… \nBooks: Fiction (for all ages)\, Non-Fiction (for all ages)\, Audio Books and Playaways \nDVDs \nMagazines \nBlack and White Copies and printing available \nFriends of the Library Book Nook with books for sale
URL:https://www.spld.org/event/2250/
LOCATION:Gardner SPLD Bookmobile\, 28 County Road 632\, Gardner
CATEGORIES:Adults,Home Page,Kids,Teens
ATTACH;FMTTYPE=image/png:https://www.spld.org/wp-content/uploads/2024/02/Winter-Holiday-Closure-Facebook-Post-1.png
END:VEVENT
END:VCALENDAR