BEGIN:VCALENDAR
VERSION:2.0
PRODID:-//SPLD - ECPv6.15.20//NONSGML v1.0//EN
CALSCALE:GREGORIAN
METHOD:PUBLISH
X-ORIGINAL-URL:https://www.spld.org
X-WR-CALDESC:Events for SPLD
REFRESH-INTERVAL;VALUE=DURATION:PT1H
X-Robots-Tag:noindex
X-PUBLISHED-TTL:PT1H
BEGIN:VTIMEZONE
TZID:America/Denver
BEGIN:DAYLIGHT
TZOFFSETFROM:-0700
TZOFFSETTO:-0600
TZNAME:MDT
DTSTART:20240310T090000
END:DAYLIGHT
BEGIN:STANDARD
TZOFFSETFROM:-0600
TZOFFSETTO:-0700
TZNAME:MST
DTSTART:20241103T080000
END:STANDARD
BEGIN:DAYLIGHT
TZOFFSETFROM:-0700
TZOFFSETTO:-0600
TZNAME:MDT
DTSTART:20250309T090000
END:DAYLIGHT
BEGIN:STANDARD
TZOFFSETFROM:-0600
TZOFFSETTO:-0700
TZNAME:MST
DTSTART:20251102T080000
END:STANDARD
BEGIN:DAYLIGHT
TZOFFSETFROM:-0700
TZOFFSETTO:-0600
TZNAME:MDT
DTSTART:20260308T090000
END:DAYLIGHT
BEGIN:STANDARD
TZOFFSETFROM:-0600
TZOFFSETTO:-0700
TZNAME:MST
DTSTART:20261101T080000
END:STANDARD
END:VTIMEZONE
BEGIN:VEVENT
DTSTART;TZID=America/Denver:20251203T080000
DTEND;TZID=America/Denver:20251203T170000
DTSTAMP:20260423T191546
CREATED:20251203T163856Z
LAST-MODIFIED:20251203T163856Z
UID:3510-1764748800-1764781200@www.spld.org
SUMMARY:SNOW DAY
DESCRIPTION:The Library will be closed December 3rd\, 2026 Due to severe storm warnings and in order to ensure staff safety. We should be open again tomorrow\, December 4th. Thank you for the Snow!!
URL:https://www.spld.org/event/snow-day/
LOCATION:Spanish Peaks Library\, 415 Walsen Ave\, Walsenburg\, CO\, 81089\, United States
CATEGORIES:Adults,Board of Trustees,Friends,Home Page,Kids,Teens
ATTACH;FMTTYPE=application/pdf:https://www.spld.org/wp-content/uploads/2025/12/1.pdf
END:VEVENT
BEGIN:VEVENT
DTSTART;TZID=America/Denver:20251219T103000
DTEND;TZID=America/Denver:20251219T113000
DTSTAMP:20260423T191546
CREATED:20251208T213203Z
LAST-MODIFIED:20251208T213203Z
UID:3551-1766140200-1766143800@www.spld.org
SUMMARY:SPLD Santa Gift Shop
DESCRIPTION:Join SPLD for a free Santa Gift Shop today\, December 19th\, from 10:30 to 11:30 AM. This event allows kids to come and shop at Santa’s Gift Shop for free. There will be free toys\, clothing\, books\, and more! We hope to see all of you there!
URL:https://www.spld.org/event/spld-santa-gift-shop/
LOCATION:Spanish Peaks Library\, 415 Walsen Ave\, Walsenburg\, CO\, 81089\, United States
CATEGORIES:Home Page,Kids
ATTACH;FMTTYPE=image/jpeg:https://www.spld.org/wp-content/uploads/2025/12/SPLD-Santa-gift-shop.jpg
END:VEVENT
BEGIN:VEVENT
DTSTART;TZID=America/Denver:20251225T000000
DTEND;TZID=America/Denver:20251225T235900
DTSTAMP:20260423T191546
CREATED:20231202T191206Z
LAST-MODIFIED:20251223T203711Z
UID:2042-1766620800-1766707140@www.spld.org
SUMMARY:Closed for Christmas
DESCRIPTION:The Spanish Peaks Library District will be closed Thursday and Friday\, December 25th and December 26th\, for the Christmas Holiday. For any library needs\, please visit our Cloud Library app for eBooks and Audiobooks. The Library will open again on Sunday\, December 28th. Have a warm and joyful holiday!
URL:https://www.spld.org/event/closed-for-christmas/
LOCATION:Spanish Peaks Library\, 415 Walsen Ave\, Walsenburg\, CO\, 81089\, United States
CATEGORIES:Adults,Board of Trustees,Friends,Home Page,Kids,Teens
ATTACH;FMTTYPE=image/png:https://www.spld.org/wp-content/uploads/2025/11/Copy-of-Copy-of-Christmas-Closer-Sign-2025.png
END:VEVENT
BEGIN:VEVENT
DTSTART;TZID=America/Denver:20251226T000000
DTEND;TZID=America/Denver:20251226T235900
DTSTAMP:20260423T191546
CREATED:20251104T205700Z
LAST-MODIFIED:20251223T203622Z
UID:3376-1766707200-1766793540@www.spld.org
SUMMARY:Closed for Christmas
DESCRIPTION:The Spanish Peaks Library District will be closed Today\, December 26th\, for the Christmas Holiday. For any library needs\, please visit our Cloud Library app for eBooks and Audiobooks. The Library will open again on Sunday\, December 28th. Have a warm and joyful holiday!
URL:https://www.spld.org/event/closed-for-christmas-2/
LOCATION:Spanish Peaks Library\, 415 Walsen Ave\, Walsenburg\, CO\, 81089\, United States
CATEGORIES:Adults,Board of Trustees,Friends,Home Page,Kids,Teens
ATTACH;FMTTYPE=image/png:https://www.spld.org/wp-content/uploads/2025/11/Copy-of-Copy-of-Christmas-Closer-Sign-2025.png
END:VEVENT
END:VCALENDAR