BEGIN:VCALENDAR
VERSION:2.0
PRODID:-//SPLD - ECPv6.15.20//NONSGML v1.0//EN
CALSCALE:GREGORIAN
METHOD:PUBLISH
X-ORIGINAL-URL:https://www.spld.org
X-WR-CALDESC:Events for SPLD
REFRESH-INTERVAL;VALUE=DURATION:PT1H
X-Robots-Tag:noindex
X-PUBLISHED-TTL:PT1H
BEGIN:VTIMEZONE
TZID:America/Denver
BEGIN:DAYLIGHT
TZOFFSETFROM:-0700
TZOFFSETTO:-0600
TZNAME:MDT
DTSTART:20240310T090000
END:DAYLIGHT
BEGIN:STANDARD
TZOFFSETFROM:-0600
TZOFFSETTO:-0700
TZNAME:MST
DTSTART:20241103T080000
END:STANDARD
BEGIN:DAYLIGHT
TZOFFSETFROM:-0700
TZOFFSETTO:-0600
TZNAME:MDT
DTSTART:20250309T090000
END:DAYLIGHT
BEGIN:STANDARD
TZOFFSETFROM:-0600
TZOFFSETTO:-0700
TZNAME:MST
DTSTART:20251102T080000
END:STANDARD
BEGIN:DAYLIGHT
TZOFFSETFROM:-0700
TZOFFSETTO:-0600
TZNAME:MDT
DTSTART:20260308T090000
END:DAYLIGHT
BEGIN:STANDARD
TZOFFSETFROM:-0600
TZOFFSETTO:-0700
TZNAME:MST
DTSTART:20261101T080000
END:STANDARD
END:VTIMEZONE
BEGIN:VEVENT
DTSTART;TZID=America/Denver:20250215T120000
DTEND;TZID=America/Denver:20250215T140000
DTSTAMP:20260423T075733
CREATED:20240202T164145Z
LAST-MODIFIED:20250204T185133Z
UID:2201-1739620800-1739628000@www.spld.org
SUMMARY:Blind Date with a Book
DESCRIPTION:Come in to the main library at 415 Walsen Ave. or to the Bookmobile in Gardner\, near the community center. Choose a book based on the synopsis provided\, take it home\, read it\, then rate your book. Bring your rating slip back to the library to be entered into a prize drawing. First and second prize is a Visa gift card and a box of chocolates. Drawing will take place on February 28th at 3:00pm.
URL:https://www.spld.org/event/blind-date-with-a-book-11/
LOCATION:Gardner SPLD Bookmobile\, 28 County Road 632\, Gardner
CATEGORIES:Adults,Home Page,Kids,Teens
ATTACH;FMTTYPE=image/png:https://www.spld.org/wp-content/uploads/2024/02/Its-Back-Blind-Date-with-a-Book-1.png
END:VEVENT
END:VCALENDAR