BEGIN:VCALENDAR
VERSION:2.0
PRODID:-//SPLD - ECPv6.15.20//NONSGML v1.0//EN
CALSCALE:GREGORIAN
METHOD:PUBLISH
X-ORIGINAL-URL:https://www.spld.org
X-WR-CALDESC:Events for SPLD
REFRESH-INTERVAL;VALUE=DURATION:PT1H
X-Robots-Tag:noindex
X-PUBLISHED-TTL:PT1H
BEGIN:VTIMEZONE
TZID:America/Denver
BEGIN:DAYLIGHT
TZOFFSETFROM:-0700
TZOFFSETTO:-0600
TZNAME:MDT
DTSTART:20240310T090000
END:DAYLIGHT
BEGIN:STANDARD
TZOFFSETFROM:-0600
TZOFFSETTO:-0700
TZNAME:MST
DTSTART:20241103T080000
END:STANDARD
BEGIN:DAYLIGHT
TZOFFSETFROM:-0700
TZOFFSETTO:-0600
TZNAME:MDT
DTSTART:20250309T090000
END:DAYLIGHT
BEGIN:STANDARD
TZOFFSETFROM:-0600
TZOFFSETTO:-0700
TZNAME:MST
DTSTART:20251102T080000
END:STANDARD
BEGIN:DAYLIGHT
TZOFFSETFROM:-0700
TZOFFSETTO:-0600
TZNAME:MDT
DTSTART:20260308T090000
END:DAYLIGHT
BEGIN:STANDARD
TZOFFSETFROM:-0600
TZOFFSETTO:-0700
TZNAME:MST
DTSTART:20261101T080000
END:STANDARD
END:VTIMEZONE
BEGIN:VEVENT
DTSTART;TZID=America/Denver:20250921T130000
DTEND;TZID=America/Denver:20250921T140000
DTSTAMP:20260423T163630
CREATED:20220113T202236Z
LAST-MODIFIED:20250921T182626Z
UID:574-1758459600-1758463200@www.spld.org
SUMMARY:Friends of the Spanish Peaks Library District Board Meeting
DESCRIPTION:The Friends support ongoing efforts by the Spanish Peaks Library District to serve Walsenburg\, Gardner\, and surrounding communities in Huerfano County\, Colorado. Assistance is fostered and developed through fundraising\, volunteer contributions\, program sponsorship\, and infrastructure improvements. The Friends advocate for all constituents\, inclusive of all demographics. \nContributions will be put towards relining the parking lot\, as well as programs and operating supplies.
URL:https://www.spld.org/event/friends-of-the-spanish-peaks-library-district-january-meeting/
LOCATION:SPLD-Meeting Room\, 415 Walsen Ave\, Walsenburg\, CO\, 81089\, United States
CATEGORIES:Adults,Friends,Home Page,Teens
ATTACH;FMTTYPE=image/png:https://www.spld.org/wp-content/uploads/2022/01/Blue-Modern-Monthly-Meeting-Instagram-Post-1.png
END:VEVENT
END:VCALENDAR