BEGIN:VCALENDAR
VERSION:2.0
PRODID:-//SPLD - ECPv6.15.20//NONSGML v1.0//EN
CALSCALE:GREGORIAN
METHOD:PUBLISH
X-WR-CALNAME:SPLD
X-ORIGINAL-URL:https://www.spld.org
X-WR-CALDESC:Events for SPLD
REFRESH-INTERVAL;VALUE=DURATION:PT1H
X-Robots-Tag:noindex
X-PUBLISHED-TTL:PT1H
BEGIN:VTIMEZONE
TZID:America/Denver
BEGIN:DAYLIGHT
TZOFFSETFROM:-0700
TZOFFSETTO:-0600
TZNAME:MDT
DTSTART:20250309T090000
END:DAYLIGHT
BEGIN:STANDARD
TZOFFSETFROM:-0600
TZOFFSETTO:-0700
TZNAME:MST
DTSTART:20251102T080000
END:STANDARD
BEGIN:DAYLIGHT
TZOFFSETFROM:-0700
TZOFFSETTO:-0600
TZNAME:MDT
DTSTART:20260308T090000
END:DAYLIGHT
BEGIN:STANDARD
TZOFFSETFROM:-0600
TZOFFSETTO:-0700
TZNAME:MST
DTSTART:20261101T080000
END:STANDARD
BEGIN:DAYLIGHT
TZOFFSETFROM:-0700
TZOFFSETTO:-0600
TZNAME:MDT
DTSTART:20270314T090000
END:DAYLIGHT
BEGIN:STANDARD
TZOFFSETFROM:-0600
TZOFFSETTO:-0700
TZNAME:MST
DTSTART:20271107T080000
END:STANDARD
END:VTIMEZONE
BEGIN:VEVENT
DTSTART;TZID=America/Denver:20260410T103000
DTEND;TZID=America/Denver:20260410T113000
DTSTAMP:20260425T102608
CREATED:20230403T183303Z
LAST-MODIFIED:20260409T220243Z
UID:1636-1775817000-1775820600@www.spld.org
SUMMARY:Poetry Month Story time with Ms. Brittany
DESCRIPTION:April is National Poetry Month and the SPLD Poetry Contest! This month enjoy fun Poetry Story times with the opportunity for children’s submissions! \nFree Clothes! Free Pastries/Snacks! A Craft AND a Story!!!!! Let’s Go! \nJoin Ms. Brittany every Friday from 10:30 to 11:30 AM for Story time and Crafts!
URL:https://www.spld.org/event/storytime-with-mrs-flamingo-6/
LOCATION:SPLD-Meeting Room\, 415 Walsen Ave\, Walsenburg\, CO\, 81089\, United States
CATEGORIES:Adults,Home Page,Kids
ATTACH;FMTTYPE=image/png:https://www.spld.org/wp-content/uploads/2023/04/Poetry-Month-Storytime-Flyer.png
END:VEVENT
BEGIN:VEVENT
DTSTART;TZID=America/Denver:20260410T130000
DTEND;TZID=America/Denver:20260410T140000
DTSTAMP:20260425T102608
CREATED:20251105T202058Z
LAST-MODIFIED:20260406T203253Z
UID:3398-1775826000-1775829600@www.spld.org
SUMMARY:Mommy & Me Physical Wellness Program
DESCRIPTION:The Mommy & Me Physical Wellness Program is cancelled Today due to staff workshop. \nPlease join Ms. Brittany next Monday from 1-2 PM for the Mommy & Me Physical Wellness Program! This SPLD Program invites the whole family (ALL ages are invited) to support our mothers to be physically\, mentally\, and spiritually fit in 2026! This program features interchangeable strength-training routines for moms\, including meditation\, yoga\, strength-training\, and nature walks at Lathrop State Park – Colorado Parks and Wildlife if weather permits. Please bring a yoga mat and water bottle. We look forward to seeing you there!
URL:https://www.spld.org/event/mommy-me-yoga-3/
LOCATION:Spanish Peaks Library\, 415 Walsen Ave\, Walsenburg\, CO\, 81089\, United States
CATEGORIES:Adults,Home Page,Kids,Teens
ATTACH;FMTTYPE=image/jpeg:https://www.spld.org/wp-content/uploads/2025/11/Physical-Wellness-Program.jpg
END:VEVENT
BEGIN:VEVENT
DTSTART;TZID=America/Denver:20260410T170000
DTEND;TZID=America/Denver:20260410T180000
DTSTAMP:20260425T102608
CREATED:20241206T230900Z
LAST-MODIFIED:20260419T162633Z
UID:2752-1775840400-1775844000@www.spld.org
SUMMARY:Book Dragons Book Club
DESCRIPTION:CURRENTLY READING: “In the Garden of Beasts” By: Erik Larson \nAnyone Can Join at Any time. We have Snacks!! \nPLEASE JOIN US! \n  \nSpanish Peaks Library is inviting you to a scheduled Zoom meeting. \nTopic: Spanish Peaks Library’s Zoom Meeting\nTime: Apr 17\, 2026 05:00 PM Mountain Time (US and Canada)\nEvery week on Fri\, until Dec 18\, 2026\, 36 occurrence(s)\nPlease download and import the following iCalendar (.ics) files to your calendar system.\nWeekly: https://us02web.zoom.us/meeting/tZcpfuiupj8iE9y_RMnZX8RjyRXGgHO0hR_q/ics?icsToken=DCN3mkmLkOxyej-gHgAALAAAACcnrEonOfwzU7i6aHeUh3DOV7kBKnnLpc4De2W27lc6OYO8U-8hCMA2QZQ6UInLIKZVVNL-5n3STicQkzAwMDAwMQ&meetingMasterEventId=iiOODdMxSC2B3Ih2Ru8EzA\nJoin Zoom Meeting\nhttps://us02web.zoom.us/j/83491684898 \nView meeting insights with Zoom AI Companion\nhttps://us02web.zoom.us/launch/edl?muid=1918160a-0b85-4594-91b0-b1086319316f \nMeeting ID: 834 9168 4898 \n— \nOne tap mobile\n+17193594580\,\,83491684898# US\n+13462487799\,\,83491684898# US (Houston) \nJoin instructions\nhttps://us02web.zoom.us/meetings/83491684898/invitations?signature=8WoiYTwFh_dZFiqFy9dmGt39VyZT_EEoBsPKF3Xz8wM\n \n 
URL:https://www.spld.org/event/book-dragons-book-club-9/
LOCATION:SPLD – Archive Room\, 415 Walsen Ave\, Walsenburg\, CO\, 81089\, United States
CATEGORIES:Adults,Home Page,Teens
ATTACH;FMTTYPE=image/png:https://www.spld.org/wp-content/uploads/2023/07/Book-Dragons-In-the-Garden-of-the-Beasts.png
END:VEVENT
END:VCALENDAR