BEGIN:VCALENDAR
VERSION:2.0
PRODID:-//SPLD - ECPv6.15.20//NONSGML v1.0//EN
CALSCALE:GREGORIAN
METHOD:PUBLISH
X-ORIGINAL-URL:https://www.spld.org
X-WR-CALDESC:Events for SPLD
REFRESH-INTERVAL;VALUE=DURATION:PT1H
X-Robots-Tag:noindex
X-PUBLISHED-TTL:PT1H
BEGIN:VTIMEZONE
TZID:America/Denver
BEGIN:DAYLIGHT
TZOFFSETFROM:-0700
TZOFFSETTO:-0600
TZNAME:MDT
DTSTART:20250309T090000
END:DAYLIGHT
BEGIN:STANDARD
TZOFFSETFROM:-0600
TZOFFSETTO:-0700
TZNAME:MST
DTSTART:20251102T080000
END:STANDARD
BEGIN:DAYLIGHT
TZOFFSETFROM:-0700
TZOFFSETTO:-0600
TZNAME:MDT
DTSTART:20260308T090000
END:DAYLIGHT
BEGIN:STANDARD
TZOFFSETFROM:-0600
TZOFFSETTO:-0700
TZNAME:MST
DTSTART:20261101T080000
END:STANDARD
BEGIN:DAYLIGHT
TZOFFSETFROM:-0700
TZOFFSETTO:-0600
TZNAME:MDT
DTSTART:20270314T090000
END:DAYLIGHT
BEGIN:STANDARD
TZOFFSETFROM:-0600
TZOFFSETTO:-0700
TZNAME:MST
DTSTART:20271107T080000
END:STANDARD
END:VTIMEZONE
BEGIN:VEVENT
DTSTART;TZID=America/Denver:20260508T103000
DTEND;TZID=America/Denver:20260508T113000
DTSTAMP:20260419T114939
CREATED:20230320T155428Z
LAST-MODIFIED:20260301T213728Z
UID:1545-1778236200-1778239800@www.spld.org
SUMMARY:Story time with Ms. Brittany
DESCRIPTION:Free Clothes! Free Pastries/Snacks! A Craft AND a Story!!!!! Let’s Go! \nJoin Ms. Brittany every Friday from 10:30 to 11:30 AM for Story time and Crafts!
URL:https://www.spld.org/event/storytime-with-mrs-flamingo/
LOCATION:SPLD-Meeting Room\, 415 Walsen Ave\, Walsenburg\, CO\, 81089\, United States
CATEGORIES:Adults,Home Page,Kids
ATTACH;FMTTYPE=image/png:https://www.spld.org/wp-content/uploads/2024/03/Colorful-Flat-Welcome-to-Our-Library-Banner.png
END:VEVENT
BEGIN:VEVENT
DTSTART;TZID=America/Denver:20260509T110000
DTEND;TZID=America/Denver:20260509T130000
DTSTAMP:20260419T114939
CREATED:20231202T183715Z
LAST-MODIFIED:20260311T155438Z
UID:2033-1778324400-1778331600@www.spld.org
SUMMARY:Gardner Bookmobile is OPEN
DESCRIPTION:We have… \nBooks: Fiction (for all ages)\, Non-Fiction (for all ages)\, Audio Books and Playaways \nDVDs \nMagazines \nBlack and White Copies and printing available \nFriends of the Library Book Nook with books for sale \n 
URL:https://www.spld.org/event/gardner-bookmobile-is-open-6/
LOCATION:Gardner SPLD Bookmobile\, 28 County Road 632\, Gardner
CATEGORIES:Adults,Home Page,Kids,Teens
ATTACH;FMTTYPE=image/png:https://www.spld.org/wp-content/uploads/2023/11/Bookmobile-updated-hours-sign-1.png
END:VEVENT
BEGIN:VEVENT
DTSTART;TZID=America/Denver:20260513T160000
DTEND;TZID=America/Denver:20260513T170000
DTSTAMP:20260419T114939
CREATED:20230609T172242Z
LAST-MODIFIED:20260322T162114Z
UID:1743-1778688000-1778691600@www.spld.org
SUMMARY:Teen Pizza Night
DESCRIPTION:NO Catch! NO Demands! Just stop by & check out YOUR library!  We offer Wii and Xbox games\, computers\, tablets and iPads\, board games\, puzzles\, music and of course\, BOOKS! \nCreate\, Play\, Explore-THRIVE at YOUR library!!
URL:https://www.spld.org/event/teen-pizza-night-3/
LOCATION:Spanish Peaks Library\, 415 Walsen Ave\, Walsenburg\, CO\, 81089\, United States
CATEGORIES:Home Page,Teens
ATTACH;FMTTYPE=image/jpeg:https://www.spld.org/wp-content/uploads/2023/12/Copy-of-Copy-of-Teen-Pizza-flyer.jpg
END:VEVENT
BEGIN:VEVENT
DTSTART;TZID=America/Denver:20260515T103000
DTEND;TZID=America/Denver:20260515T113000
DTSTAMP:20260419T114939
CREATED:20230403T180451Z
LAST-MODIFIED:20260315T181742Z
UID:1617-1778841000-1778844600@www.spld.org
SUMMARY:Story time with Ms. Brittany
DESCRIPTION:Free Clothes! Free Pastries/Snacks! A Craft AND a Story!!!!! Let’s Go! \nJoin Ms. Brittany every Friday from 10:30 to 11:30 AM for Story time and Crafts!
URL:https://www.spld.org/event/storytime-with-mrs-flamingo-3/
LOCATION:SPLD-Meeting Room\, 415 Walsen Ave\, Walsenburg\, CO\, 81089\, United States
CATEGORIES:Adults,Home Page,Kids
ATTACH;FMTTYPE=image/png:https://www.spld.org/wp-content/uploads/2024/03/Colorful-Flat-Welcome-to-Our-Library-Banner.png
END:VEVENT
BEGIN:VEVENT
DTSTART;TZID=America/Denver:20260515T170000
DTEND;TZID=America/Denver:20260515T180000
DTSTAMP:20260419T114939
CREATED:20240725T225424Z
LAST-MODIFIED:20260419T162752Z
UID:2529-1778864400-1778868000@www.spld.org
SUMMARY:Book Dragons Book Club
DESCRIPTION:CURRENTLY READING: To Be Announced \nAnyone Can Join at Any time. We have Snacks!! \nPLEASE JOIN US! \n  \nSpanish Peaks Library is inviting you to a scheduled Zoom meeting. \nTopic: Spanish Peaks Library’s Zoom Meeting\nTime: Apr 17\, 2026 05:00 PM Mountain Time (US and Canada)\nEvery week on Fri\, until Dec 18\, 2026\, 36 occurrence(s)\nPlease download and import the following iCalendar (.ics) files to your calendar system.\nWeekly: https://us02web.zoom.us/meeting/tZcpfuiupj8iE9y_RMnZX8RjyRXGgHO0hR_q/ics?icsToken=DCN3mkmLkOxyej-gHgAALAAAACcnrEonOfwzU7i6aHeUh3DOV7kBKnnLpc4De2W27lc6OYO8U-8hCMA2QZQ6UInLIKZVVNL-5n3STicQkzAwMDAwMQ&meetingMasterEventId=iiOODdMxSC2B3Ih2Ru8EzA\nJoin Zoom Meeting\nhttps://us02web.zoom.us/j/83491684898 \nView meeting insights with Zoom AI Companion\nhttps://us02web.zoom.us/launch/edl?muid=1918160a-0b85-4594-91b0-b1086319316f \nMeeting ID: 834 9168 4898 \n— \nOne tap mobile\n+17193594580\,\,83491684898# US\n+13462487799\,\,83491684898# US (Houston) \nJoin instructions\nhttps://us02web.zoom.us/meetings/83491684898/invitations?signature=8WoiYTwFh_dZFiqFy9dmGt39VyZT_EEoBsPKF3Xz8wM \n 
URL:https://www.spld.org/event/book-dragons-book-club-3/
LOCATION:SPLD – Archive Room\, 415 Walsen Ave\, Walsenburg\, CO\, 81089\, United States
CATEGORIES:Adults,Home Page,Teens
ATTACH;FMTTYPE=image/png:https://www.spld.org/wp-content/uploads/2023/07/Book-Dragons-1.png
END:VEVENT
BEGIN:VEVENT
DTSTART;TZID=America/Denver:20260516T110000
DTEND;TZID=America/Denver:20260516T130000
DTSTAMP:20260419T114939
CREATED:20231108T215531Z
LAST-MODIFIED:20260315T182908Z
UID:1970-1778929200-1778936400@www.spld.org
SUMMARY:Gardner Bookmobile is OPEN
DESCRIPTION:We have… \nBooks: Fiction (for all ages)\, Non-Fiction (for all ages)\, Audio Books and Playaways \nDVDs \nMagazines \nBlack and White Copies and printing available \nFriends of the Library Book Nook with books for sale
URL:https://www.spld.org/event/gardner-bookmobile-is-open-5/
LOCATION:Gardner SPLD Bookmobile\, 28 County Road 632\, Gardner
CATEGORIES:Adults,Home Page,Kids,Teens
ATTACH;FMTTYPE=image/png:https://www.spld.org/wp-content/uploads/2023/11/Bookmobile-updated-hours-sign-1.png
END:VEVENT
BEGIN:VEVENT
DTSTART;TZID=America/Denver:20260517T140000
DTEND;TZID=America/Denver:20260517T160000
DTSTAMP:20260419T114939
CREATED:20250429T231626Z
LAST-MODIFIED:20260415T160751Z
UID:2998-1779026400-1779033600@www.spld.org
SUMMARY:3rd Annual Poetry Party
DESCRIPTION:Enjoy an afternoon of local voices and creative expression as the top 3 winners in both the Adults\, Teens\, and Tween & Kids categories share their winning poems! \nFree refreshments! \nAll Ages Welcome! \nCome Celebrate the Poets in our Community!
URL:https://www.spld.org/event/2nd-annual-poetry-party/
LOCATION:SPLD-Meeting Room\, 415 Walsen Ave\, Walsenburg\, CO\, 81089\, United States
CATEGORIES:Adults,Home Page,Kids,Teens
ATTACH;FMTTYPE=image/png:https://www.spld.org/wp-content/uploads/2025/04/2026-3rd-Annual-Poetry-Patry-Post-1.png
END:VEVENT
BEGIN:VEVENT
DTSTART;TZID=America/Denver:20260520T160000
DTEND;TZID=America/Denver:20260520T170000
DTSTAMP:20260419T114939
CREATED:20230608T200421Z
LAST-MODIFIED:20260331T181616Z
UID:1739-1779292800-1779296400@www.spld.org
SUMMARY:Teen Pizza
DESCRIPTION:NO Catch! NO Demands! Just stop by & check out YOUR library!  We offer Wii and Xbox games\, computers\, tablets and iPads\, board games\, puzzles\, music and of course\, BOOKS! \nCreate\, Play\, Explore-THRIVE at YOUR library!!
URL:https://www.spld.org/event/teen-pizza-night-2/
LOCATION:Spanish Peaks Library\, 415 Walsen Ave\, Walsenburg\, CO\, 81089\, United States
CATEGORIES:Home Page,Teens
ATTACH;FMTTYPE=image/jpeg:https://www.spld.org/wp-content/uploads/2023/12/Copy-of-Copy-of-Teen-Pizza-flyer.jpg
END:VEVENT
BEGIN:VEVENT
DTSTART;TZID=America/Denver:20260522T103000
DTEND;TZID=America/Denver:20260522T233000
DTSTAMP:20260419T114939
CREATED:20230403T181649Z
LAST-MODIFIED:20260322T162256Z
UID:1627-1779445800-1779492600@www.spld.org
SUMMARY:Story time with Ms. Brittany
DESCRIPTION:Free Clothes! Free Pastries/Snacks! A Craft AND a Story!!!!! Let’s Go! \nJoin Ms. Brittany every Friday from 10:30 to 11:30 AM for Story time and Crafts!
URL:https://www.spld.org/event/storytime-with-mrs-flamingo-4/
LOCATION:SPLD-Meeting Room\, 415 Walsen Ave\, Walsenburg\, CO\, 81089\, United States
CATEGORIES:Adults,Home Page,Kids
ATTACH;FMTTYPE=image/png:https://www.spld.org/wp-content/uploads/2024/03/Colorful-Flat-Welcome-to-Our-Library-Banner.png
END:VEVENT
BEGIN:VEVENT
DTSTART;TZID=America/Denver:20260522T170000
DTEND;TZID=America/Denver:20260522T180000
DTSTAMP:20260419T114939
CREATED:20230702T224154Z
LAST-MODIFIED:20260419T162908Z
UID:1768-1779469200-1779472800@www.spld.org
SUMMARY:Book Dragons Book Club
DESCRIPTION:CURRENTLY READING: To Be Announced \nAnyone Can Join at Any time. We have Snacks!! \nPLEASE JOIN US! \n  \nSpanish Peaks Library is inviting you to a scheduled Zoom meeting. \nTopic: Spanish Peaks Library’s Zoom Meeting\nTime: Apr 17\, 2026 05:00 PM Mountain Time (US and Canada)\nEvery week on Fri\, until Dec 18\, 2026\, 36 occurrence(s)\nPlease download and import the following iCalendar (.ics) files to your calendar system.\nWeekly: https://us02web.zoom.us/meeting/tZcpfuiupj8iE9y_RMnZX8RjyRXGgHO0hR_q/ics?icsToken=DCN3mkmLkOxyej-gHgAALAAAACcnrEonOfwzU7i6aHeUh3DOV7kBKnnLpc4De2W27lc6OYO8U-8hCMA2QZQ6UInLIKZVVNL-5n3STicQkzAwMDAwMQ&meetingMasterEventId=iiOODdMxSC2B3Ih2Ru8EzA\nJoin Zoom Meeting\nhttps://us02web.zoom.us/j/83491684898 \nView meeting insights with Zoom AI Companion\nhttps://us02web.zoom.us/launch/edl?muid=1918160a-0b85-4594-91b0-b1086319316f \nMeeting ID: 834 9168 4898 \n— \nOne tap mobile\n+17193594580\,\,83491684898# US\n+13462487799\,\,83491684898# US (Houston) \nJoin instructions\nhttps://us02web.zoom.us/meetings/83491684898/invitations?signature=8WoiYTwFh_dZFiqFy9dmGt39VyZT_EEoBsPKF3Xz8wM \n 
URL:https://www.spld.org/event/book-club/
LOCATION:SPLD – Archive Room\, 415 Walsen Ave\, Walsenburg\, CO\, 81089\, United States
CATEGORIES:Adults,Home Page,Teens
ATTACH;FMTTYPE=image/png:https://www.spld.org/wp-content/uploads/2023/07/Book-Dragons-1.png
END:VEVENT
BEGIN:VEVENT
DTSTART;TZID=America/Denver:20260527T160000
DTEND;TZID=America/Denver:20260527T170000
DTSTAMP:20260419T114939
CREATED:20230608T200033Z
LAST-MODIFIED:20260409T162933Z
UID:1736-1779897600-1779901200@www.spld.org
SUMMARY:Teen Pizza
DESCRIPTION:NO Catch! NO Demands! Just stop by & check out YOUR library!  We offer Wii and Xbox games\, computers\, tablets and iPads\, board games\, puzzles\, music and of course\, BOOKS! \nCreate\, Play\, Explore-THRIVE at YOUR library!!
URL:https://www.spld.org/event/teen-pizza-night/
LOCATION:Spanish Peaks Library\, 415 Walsen Ave\, Walsenburg\, CO\, 81089\, United States
CATEGORIES:Home Page,Teens
ATTACH;FMTTYPE=image/jpeg:https://www.spld.org/wp-content/uploads/2023/12/Copy-of-Copy-of-Teen-Pizza-flyer.jpg
END:VEVENT
BEGIN:VEVENT
DTSTART;TZID=America/Denver:20260529T103000
DTEND;TZID=America/Denver:20260529T113000
DTSTAMP:20260419T114939
CREATED:20230403T182024Z
LAST-MODIFIED:20260331T181716Z
UID:1630-1780050600-1780054200@www.spld.org
SUMMARY:Story time with Ms. Brittany
DESCRIPTION:Free Clothes! Free Pastries/Snacks! A Craft AND a Story!!!!! Let’s Go! \nJoin Ms. Brittany every Friday from 10:30 to 11:30 AM for Story time and Crafts!
URL:https://www.spld.org/event/storytime-with-mrs-flamingo-5/
LOCATION:SPLD-Meeting Room\, 415 Walsen Ave\, Walsenburg\, CO\, 81089\, United States
CATEGORIES:Adults,Home Page,Kids
ATTACH;FMTTYPE=image/png:https://www.spld.org/wp-content/uploads/2024/03/Colorful-Flat-Welcome-to-Our-Library-Banner.png
END:VEVENT
BEGIN:VEVENT
DTSTART;TZID=America/Denver:20260529T170000
DTEND;TZID=America/Denver:20260529T180000
DTSTAMP:20260419T114939
CREATED:20240725T225743Z
LAST-MODIFIED:20260418T190057Z
UID:2531-1780074000-1780077600@www.spld.org
SUMMARY:Book Dragons Book Club
DESCRIPTION:Currently Reading: To Be Announced \nAnyone Can Join at Any time. We have Snacks!! \nPLEASE JOIN US! \n  \nSpanish Peaks Library is inviting you to a scheduled Zoom meeting. \nTopic: Spanish Peaks Library’s Zoom Meeting\nTime: Apr 17\, 2026 05:00 PM Mountain Time (US and Canada)\nEvery week on Fri\, until Dec 18\, 2026\, 36 occurrence(s)\nPlease download and import the following iCalendar (.ics) files to your calendar system.\nWeekly: https://us02web.zoom.us/meeting/tZcpfuiupj8iE9y_RMnZX8RjyRXGgHO0hR_q/ics?icsToken=DCN3mkmLkOxyej-gHgAALAAAACcnrEonOfwzU7i6aHeUh3DOV7kBKnnLpc4De2W27lc6OYO8U-8hCMA2QZQ6UInLIKZVVNL-5n3STicQkzAwMDAwMQ&meetingMasterEventId=iiOODdMxSC2B3Ih2Ru8EzA\nJoin Zoom Meeting\nhttps://us02web.zoom.us/j/83491684898 \nView meeting insights with Zoom AI Companion\nhttps://us02web.zoom.us/launch/edl?muid=1918160a-0b85-4594-91b0-b1086319316f \nMeeting ID: 834 9168 4898 \n— \nOne tap mobile\n+17193594580\,\,83491684898# US\n+13462487799\,\,83491684898# US (Houston) \nJoin instructions\nhttps://us02web.zoom.us/meetings/83491684898/invitations?signature=8WoiYTwFh_dZFiqFy9dmGt39VyZT_EEoBsPKF3Xz8wM
URL:https://www.spld.org/event/book-dragons-book-club-5/
LOCATION:SPLD – Archive Room\, 415 Walsen Ave\, Walsenburg\, CO\, 81089\, United States
CATEGORIES:Adults,Home Page,Teens
ATTACH;FMTTYPE=image/png:https://www.spld.org/wp-content/uploads/2023/07/Book-Dragons-1.png
END:VEVENT
BEGIN:VEVENT
DTSTART;TZID=America/Denver:20260530T110000
DTEND;TZID=America/Denver:20260530T130000
DTSTAMP:20260419T114939
CREATED:20231108T202426Z
LAST-MODIFIED:20260331T181919Z
UID:1936-1780138800-1780146000@www.spld.org
SUMMARY:Gardner Bookmobile Is OPEN
DESCRIPTION:We have… \nBooks: Fiction (for all ages)\, Non-Fiction (for all ages)\, Audio Books and Playaways \nDVDs \nMagazines \nBlack and White Copies and printing available \nFriends of the Library Book Nook with books for sale
URL:https://www.spld.org/event/gardner-bookmobile-is-open/
LOCATION:Gardner SPLD Bookmobile\, 28 County Road 632\, Gardner
CATEGORIES:Adults,Home Page,Kids,Teens
ATTACH;FMTTYPE=image/png:https://www.spld.org/wp-content/uploads/2023/11/Bookmobile-updated-hours-sign-1.png
END:VEVENT
END:VCALENDAR