BEGIN:VCALENDAR
VERSION:2.0
PRODID:-//SPLD - ECPv6.15.20//NONSGML v1.0//EN
CALSCALE:GREGORIAN
METHOD:PUBLISH
X-WR-CALNAME:SPLD
X-ORIGINAL-URL:https://www.spld.org
X-WR-CALDESC:Events for SPLD
REFRESH-INTERVAL;VALUE=DURATION:PT1H
X-Robots-Tag:noindex
X-PUBLISHED-TTL:PT1H
BEGIN:VTIMEZONE
TZID:America/Denver
BEGIN:DAYLIGHT
TZOFFSETFROM:-0700
TZOFFSETTO:-0600
TZNAME:MDT
DTSTART:20240310T090000
END:DAYLIGHT
BEGIN:STANDARD
TZOFFSETFROM:-0600
TZOFFSETTO:-0700
TZNAME:MST
DTSTART:20241103T080000
END:STANDARD
BEGIN:DAYLIGHT
TZOFFSETFROM:-0700
TZOFFSETTO:-0600
TZNAME:MDT
DTSTART:20250309T090000
END:DAYLIGHT
BEGIN:STANDARD
TZOFFSETFROM:-0600
TZOFFSETTO:-0700
TZNAME:MST
DTSTART:20251102T080000
END:STANDARD
BEGIN:DAYLIGHT
TZOFFSETFROM:-0700
TZOFFSETTO:-0600
TZNAME:MDT
DTSTART:20260308T090000
END:DAYLIGHT
BEGIN:STANDARD
TZOFFSETFROM:-0600
TZOFFSETTO:-0700
TZNAME:MST
DTSTART:20261101T080000
END:STANDARD
END:VTIMEZONE
BEGIN:VEVENT
DTSTART;TZID=America/Denver:20250218T093000
DTEND;TZID=America/Denver:20250218T170000
DTSTAMP:20260422T041559
CREATED:20240202T162419Z
LAST-MODIFIED:20250212T193117Z
UID:2191-1739871000-1739898000@www.spld.org
SUMMARY:Blind Date with a Book
DESCRIPTION:Come in to the main library at 415 Walsen Ave. or to the Bookmobile in Gardner\, near the community center. Choose a book based on the synopsis provided\, take it home\, read it\, then rate your book. Bring your rating slip back to the library to be entered into a prize drawing. First and second prize is a Visa gift card and a box of chocolates. Drawing will take place on February 28th at 3:00pm.
URL:https://www.spld.org/event/blind-date-with-a-book-8/
LOCATION:Spanish Peaks Library\, 415 Walsen Ave\, Walsenburg\, CO\, 81089\, United States
CATEGORIES:Adults,Home Page,Kids,Teens
ATTACH;FMTTYPE=image/png:https://www.spld.org/wp-content/uploads/2024/02/Its-Back-Blind-Date-with-a-Book-1.png
END:VEVENT
BEGIN:VEVENT
DTSTART;TZID=America/Denver:20250219T093000
DTEND;TZID=America/Denver:20250219T170000
DTSTAMP:20260422T041559
CREATED:20240202T162159Z
LAST-MODIFIED:20250212T193223Z
UID:2189-1739957400-1739984400@www.spld.org
SUMMARY:Blind Date with a Book
DESCRIPTION:Come in to the main library at 415 Walsen Ave. or to the Bookmobile in Gardner\, near the community center. Choose a book based on the synopsis provided\, take it home\, read it\, then rate your book. Bring your rating slip back to the library to be entered into a prize drawing. First and second prize is a Visa gift card and a box of chocolates. Drawing will take place on February 28th at 3:00pm.
URL:https://www.spld.org/event/blind-date-with-a-book-7/
LOCATION:Spanish Peaks Library\, 415 Walsen Ave\, Walsenburg\, CO\, 81089\, United States
CATEGORIES:Adults,Board of Trustees,Kids,Teens
ATTACH;FMTTYPE=image/png:https://www.spld.org/wp-content/uploads/2024/02/Its-Back-Blind-Date-with-a-Book-1.png
END:VEVENT
BEGIN:VEVENT
DTSTART;TZID=America/Denver:20250220T093000
DTEND;TZID=America/Denver:20250220T170000
DTSTAMP:20260422T041559
CREATED:20240202T161936Z
LAST-MODIFIED:20250212T193404Z
UID:2187-1740043800-1740070800@www.spld.org
SUMMARY:Blind Date with a Book
DESCRIPTION:Come in to the main library at 415 Walsen Ave. or to the Bookmobile in Gardner\, near the community center. Choose a book based on the synopsis provided\, take it home\, read it\, then rate your book. Bring your rating slip back to the library to be entered into a prize drawing. First and second prize is a Visa gift card and a box of chocolates. Drawing will take place on February 28th at 3:00pm.
URL:https://www.spld.org/event/blind-date-with-a-book-6/
LOCATION:Spanish Peaks Library\, 415 Walsen Ave\, Walsenburg\, CO\, 81089\, United States
CATEGORIES:Adults,Board of Trustees,Kids,Teens
ATTACH;FMTTYPE=image/png:https://www.spld.org/wp-content/uploads/2024/02/Its-Back-Blind-Date-with-a-Book-1.png
END:VEVENT
BEGIN:VEVENT
DTSTART;TZID=America/Denver:20250221T093000
DTEND;TZID=America/Denver:20250221T170000
DTSTAMP:20260422T041559
CREATED:20240202T161301Z
LAST-MODIFIED:20250212T193547Z
UID:2185-1740130200-1740157200@www.spld.org
SUMMARY:Blind Date with a Book
DESCRIPTION:Come in to the main library at 415 Walsen Ave. or to the Bookmobile in Gardner\, near the community center. Choose a book based on the synopsis provided\, take it home\, read it\, then rate your book. Bring your rating slip back to the library to be entered into a prize drawing. First and second prize is a Visa gift card and a box of chocolates. Drawing will take place on February 28th at 3:00pm.
URL:https://www.spld.org/event/blind-date-with-a-book-5/
LOCATION:Spanish Peaks Library\, 415 Walsen Ave\, Walsenburg\, CO\, 81089\, United States
CATEGORIES:Adults,Board of Trustees,Home Page,Kids,Teens
ATTACH;FMTTYPE=image/png:https://www.spld.org/wp-content/uploads/2024/02/Its-Back-Blind-Date-with-a-Book-1.png
END:VEVENT
BEGIN:VEVENT
DTSTART;TZID=America/Denver:20250222T120000
DTEND;TZID=America/Denver:20250222T140000
DTSTAMP:20260422T041559
CREATED:20240202T160227Z
LAST-MODIFIED:20250212T194526Z
UID:2179-1740225600-1740232800@www.spld.org
SUMMARY:Blind Date with a Book
DESCRIPTION:Come in to the main library at 415 Walsen Ave. or to the Bookmobile in Gardner\, near the community center. Choose a book based on the synopsis provided\, take it home\, read it\, then rate your book. Bring your rating slip back to the library to be entered into a prize drawing. First and second prize is a Visa gift card and a box of chocolates. Drawing will take place on February 28th at 3:00pm.
URL:https://www.spld.org/event/blind-date-with-a-book-3/
LOCATION:Gardner SPLD Bookmobile\, 28 County Road 632\, Gardner
CATEGORIES:Adults,Home Page,Kids,Teens
ATTACH;FMTTYPE=image/png:https://www.spld.org/wp-content/uploads/2024/02/Its-Back-Blind-Date-with-a-Book-1.png
END:VEVENT
BEGIN:VEVENT
DTSTART;TZID=America/Denver:20250223T110000
DTEND;TZID=America/Denver:20250223T160000
DTSTAMP:20260422T041559
CREATED:20240202T160847Z
LAST-MODIFIED:20250212T194339Z
UID:2181-1740308400-1740326400@www.spld.org
SUMMARY:Blind Date with a Book
DESCRIPTION:Come in to the main library at 415 Walsen Ave. or to the Bookmobile in Gardner\, near the community center. Choose a book based on the synopsis provided\, take it home\, read it\, then rate your book. Bring your rating slip back to the library to be entered into a prize drawing. First and second prize is a Visa gift card and a box of chocolates. Drawing will take place on February 28th at 3:00pm.
URL:https://www.spld.org/event/blind-date-with-a-book-4/
LOCATION:Spanish Peaks Library\, 415 Walsen Ave\, Walsenburg\, CO\, 81089\, United States
CATEGORIES:Adults,Home Page,Kids,Teens
ATTACH;FMTTYPE=image/png:https://www.spld.org/wp-content/uploads/2024/02/Its-Back-Blind-Date-with-a-Book-1.png
END:VEVENT
BEGIN:VEVENT
DTSTART;TZID=America/Denver:20250224T093000
DTEND;TZID=America/Denver:20250224T170000
DTSTAMP:20260422T041559
CREATED:20240202T155806Z
LAST-MODIFIED:20250212T194643Z
UID:2177-1740389400-1740416400@www.spld.org
SUMMARY:Blind Date with a Book
DESCRIPTION:Come in to the main library at 415 Walsen Ave. or to the Bookmobile in Gardner\, near the community center. Choose a book based on the synopsis provided\, take it home\, read it\, then rate your book. Bring your rating slip back to the library to be entered into a prize drawing. First and second prize is a Visa gift card and a box of chocolates. Drawing will take place on February 28th at 3:00pm.
URL:https://www.spld.org/event/blind-date-with-a-book-2/
LOCATION:Spanish Peaks Library\, 415 Walsen Ave\, Walsenburg\, CO\, 81089\, United States
CATEGORIES:Adults,Board of Trustees,Kids,Teens
ATTACH;FMTTYPE=image/png:https://www.spld.org/wp-content/uploads/2024/02/Its-Back-Blind-Date-with-a-Book-1.png
END:VEVENT
BEGIN:VEVENT
DTSTART;TZID=America/Denver:20250225T093000
DTEND;TZID=America/Denver:20250225T170000
DTSTAMP:20260422T041559
CREATED:20240202T155457Z
LAST-MODIFIED:20250212T194858Z
UID:2174-1740475800-1740502800@www.spld.org
SUMMARY:Blind Date with a Book
DESCRIPTION:Come in to the main library at 415 Walsen Ave. or to the Bookmobile in Gardner\, near the community center. Choose a book based on the synopsis provided\, take it home\, read it\, then rate your book. Bring your rating slip back to the library to be entered into a prize drawing. First and second prize is a Visa gift card and a box of chocolates. Drawing will take place on February 28th at 3:00pm.
URL:https://www.spld.org/event/blind-date-with-a-book/
LOCATION:Spanish Peaks Library\, 415 Walsen Ave\, Walsenburg\, CO\, 81089\, United States
CATEGORIES:Adults,Home Page,Kids,Teens
ATTACH;FMTTYPE=image/png:https://www.spld.org/wp-content/uploads/2024/02/Its-Back-Blind-Date-with-a-Book-1.png
END:VEVENT
BEGIN:VEVENT
DTSTART;TZID=America/Denver:20250226T093000
DTEND;TZID=America/Denver:20250226T170000
DTSTAMP:20260422T041559
CREATED:20250212T195309Z
LAST-MODIFIED:20250212T195323Z
UID:2859-1740562200-1740589200@www.spld.org
SUMMARY:Blind Date With A Book
DESCRIPTION:Come in to the main library at 415 Walsen Ave. or to the Bookmobile in Gardner\, near the community center. Choose a book based on the synopsis provided\, take it home\, read it\, then rate your book. Bring your rating slip back to the library to be entered into a prize drawing. First and second prize is a Visa gift card and a box of chocolates. Drawing will take place on February 28th at 3:00pm.
URL:https://www.spld.org/event/blind-date-with-a-book-26/
LOCATION:Spanish Peaks Library\, 415 Walsen Ave\, Walsenburg\, CO\, 81089\, United States
CATEGORIES:Adults,Home Page,Kids,Teens
ATTACH;FMTTYPE=image/png:https://www.spld.org/wp-content/uploads/2024/02/Its-Back-Blind-Date-with-a-Book-1.png
END:VEVENT
BEGIN:VEVENT
DTSTART;TZID=America/Denver:20250227T093000
DTEND;TZID=America/Denver:20250227T170000
DTSTAMP:20260422T041559
CREATED:20240202T162652Z
LAST-MODIFIED:20250212T200610Z
UID:2193-1740648600-1740675600@www.spld.org
SUMMARY:Blind Date with a Book
DESCRIPTION:Come in to the main library at 415 Walsen Ave. or to the Bookmobile in Gardner\, near the community center. Choose a book based on the synopsis provided\, take it home\, read it\, then rate your book. Bring your rating slip back to the library to be entered into a prize drawing. First and second prize is a Visa gift card and a box of chocolates. Drawing will take place on February 28th at 3:00pm.
URL:https://www.spld.org/event/blind-date-with-a-book-9/
LOCATION:Spanish Peaks Library\, 415 Walsen Ave\, Walsenburg\, CO\, 81089\, United States
CATEGORIES:Adults,Board of Trustees,Home Page,Kids,Teens
ATTACH;FMTTYPE=image/png:https://www.spld.org/wp-content/uploads/2024/02/Its-Back-Blind-Date-with-a-Book-1.png
END:VEVENT
BEGIN:VEVENT
DTSTART;TZID=America/Denver:20250228T093000
DTEND;TZID=America/Denver:20250228T150000
DTSTAMP:20260422T041559
CREATED:20240211T192924Z
LAST-MODIFIED:20250131T234505Z
UID:2254-1740735000-1740754800@www.spld.org
SUMMARY:Blind Date with a Book-Last Day to turn in Rated Date Slips!!!
DESCRIPTION:Come in to the main library at 415 Walsen Ave. or to the Bookmobile in Gardner\, near the community center. Choose a book based on the synopsis provided\, take it home\, read it\, then rate your book. Bring your rating slip back to the library to be entered into a prize drawing. First and second prize is a Visa gift card and a box of chocolates. Drawing will take place on February 28th at 3:00pm.
URL:https://www.spld.org/event/blind-date-with-a-book-last-day-to-turn-in-rated-date-slips/
LOCATION:Spanish Peaks Library\, 415 Walsen Ave\, Walsenburg\, CO\, 81089\, United States
CATEGORIES:Adults,Home Page,Kids,Teens
ATTACH;FMTTYPE=image/png:https://www.spld.org/wp-content/uploads/2024/02/Its-Back-Blind-Date-with-a-Book-1.png
END:VEVENT
BEGIN:VEVENT
DTSTART;TZID=America/Denver:20250228T150000
DTEND;TZID=America/Denver:20250228T150000
DTSTAMP:20260422T041559
CREATED:20240211T194220Z
LAST-MODIFIED:20250131T234750Z
UID:2256-1740754800-1740754800@www.spld.org
SUMMARY:Blind Date with a Book Prize Drawing
DESCRIPTION:For all those who returned a “Rate Your Date” slip throughout February\, we will be randomly drawing names for a Visa gift card and a box of chocolates! Two winners will be chosen and we will contact you based on the information you provided with your “Rate Your Date” slip at 3:00 PM! \n 
URL:https://www.spld.org/event/blind-date-with-a-book-prize-drawing/
LOCATION:Spanish Peaks Library\, 415 Walsen Ave\, Walsenburg\, CO\, 81089\, United States
CATEGORIES:Adults,Home Page,Kids,Teens
ATTACH;FMTTYPE=image/png:https://www.spld.org/wp-content/uploads/2024/02/Yellow-3D-Give-Away-Instagram-Post.png
END:VEVENT
BEGIN:VEVENT
DTSTART;TZID=America/Denver:20250610T100000
DTEND;TZID=America/Denver:20250610T110000
DTSTAMP:20260422T041559
CREATED:20250609T171405Z
LAST-MODIFIED:20250609T171406Z
UID:3056-1749549600-1749553200@www.spld.org
SUMMARY:Summer Reading at Spanish Peaks Library
DESCRIPTION:Books And Prizes!!!
URL:https://www.spld.org/event/summer-reading-at-spanish-peaks-library/
LOCATION:SPLD-Meeting Room\, 415 Walsen Ave\, Walsenburg\, CO\, 81089\, United States
CATEGORIES:Adults,Home Page,Kids
ATTACH;FMTTYPE=application/pdf:https://www.spld.org/wp-content/uploads/2025/06/Summer-Reading-Flyer-2025-05-30_151917.pdf
END:VEVENT
BEGIN:VEVENT
DTSTART;TZID=America/Denver:20250612T100000
DTEND;TZID=America/Denver:20250612T110000
DTSTAMP:20260422T041559
CREATED:20250609T171604Z
LAST-MODIFIED:20250609T171604Z
UID:3060-1749722400-1749726000@www.spld.org
SUMMARY:Summer Reading at Spanish Peaks Library
DESCRIPTION:Books And Prizes!!!
URL:https://www.spld.org/event/summer-reading-at-spanish-peaks-library-2/
LOCATION:SPLD-Meeting Room\, 415 Walsen Ave\, Walsenburg\, CO\, 81089\, United States
CATEGORIES:Adults,Home Page,Kids
ATTACH;FMTTYPE=application/pdf:https://www.spld.org/wp-content/uploads/2025/06/Summer-Reading-Flyer-2025-05-30_151917-1.pdf
END:VEVENT
BEGIN:VEVENT
DTSTART;TZID=America/Denver:20250617T100000
DTEND;TZID=America/Denver:20250617T110000
DTSTAMP:20260422T041559
CREATED:20250609T171820Z
LAST-MODIFIED:20250609T171820Z
UID:3063-1750154400-1750158000@www.spld.org
SUMMARY:Summer Reading at Spanish Peaks Library
DESCRIPTION:Books And Prizes!!!
URL:https://www.spld.org/event/summer-reading-at-spanish-peaks-library-3/
LOCATION:SPLD-Meeting Room\, 415 Walsen Ave\, Walsenburg\, CO\, 81089\, United States
CATEGORIES:Adults,Home Page,Kids
ATTACH;FMTTYPE=application/pdf:https://www.spld.org/wp-content/uploads/2025/06/Summer-Reading-Flyer-2025-05-30_151917-2.pdf
END:VEVENT
BEGIN:VEVENT
DTSTART;TZID=America/Denver:20250619T093000
DTEND;TZID=America/Denver:20250619T180000
DTSTAMP:20260422T041559
CREATED:20250609T184000Z
LAST-MODIFIED:20250609T184000Z
UID:3080-1750325400-1750356000@www.spld.org
SUMMARY:Closed For Juneteenth
DESCRIPTION:Spanish Peaks Library wishes you a very happy Juneteenth!!
URL:https://www.spld.org/event/closed-for-juneteenth/
LOCATION:Spanish Peaks Library\, 415 Walsen Ave\, Walsenburg\, CO\, 81089\, United States
CATEGORIES:Adults,Home Page,Kids,Teens
ATTACH;FMTTYPE=image/jpeg:https://www.spld.org/wp-content/uploads/2025/06/Copy-of-JUNETEENTH-Library-Closed-Flyer.jpg
END:VEVENT
BEGIN:VEVENT
DTSTART;TZID=America/Denver:20250624T100000
DTEND;TZID=America/Denver:20250624T110000
DTSTAMP:20260422T041559
CREATED:20250609T172005Z
LAST-MODIFIED:20250609T172005Z
UID:3066-1750759200-1750762800@www.spld.org
SUMMARY:Summer Reading at Spanish Peaks Library
DESCRIPTION:Books And Prizes!!!
URL:https://www.spld.org/event/summer-reading-at-spanish-peaks-library-4/
LOCATION:SPLD-Meeting Room\, 415 Walsen Ave\, Walsenburg\, CO\, 81089\, United States
CATEGORIES:Adults,Home Page,Kids
ATTACH;FMTTYPE=application/pdf:https://www.spld.org/wp-content/uploads/2025/06/Summer-Reading-Flyer-2025-05-30_151917-3.pdf
END:VEVENT
BEGIN:VEVENT
DTSTART;TZID=America/Denver:20250626T080000
DTEND;TZID=America/Denver:20250626T170000
DTSTAMP:20260422T041559
CREATED:20250609T172130Z
LAST-MODIFIED:20250609T172130Z
UID:3069-1750924800-1750957200@www.spld.org
SUMMARY:Summer Reading at Spanish Peaks Library
DESCRIPTION:Books And Prizes!!!
URL:https://www.spld.org/event/summer-reading-at-spanish-peaks-library-5/
LOCATION:SPLD-Meeting Room\, 415 Walsen Ave\, Walsenburg\, CO\, 81089\, United States
CATEGORIES:Adults,Home Page,Kids
ATTACH;FMTTYPE=application/pdf:https://www.spld.org/wp-content/uploads/2025/06/Summer-Reading-Flyer-2025-05-30_151917-4.pdf
END:VEVENT
BEGIN:VEVENT
DTSTART;TZID=America/Denver:20250704T000000
DTEND;TZID=America/Denver:20250704T235900
DTSTAMP:20260422T041559
CREATED:20230702T220823Z
LAST-MODIFIED:20250609T185222Z
UID:1765-1751587200-1751673540@www.spld.org
SUMMARY:Closed For 4th of July Holiday
DESCRIPTION:Spanish Peaks Library Wishes you a most wonderful Holiday!
URL:https://www.spld.org/event/closed-for-4th-of-july-holiday/
LOCATION:Spanish Peaks Library\, 415 Walsen Ave\, Walsenburg\, CO\, 81089\, United States
CATEGORIES:Adults,Board of Trustees,Friends,Home Page,Kids,Teens
ATTACH;FMTTYPE=image/jpeg:https://www.spld.org/wp-content/uploads/2023/07/Copy-of-MLK-JR-Closure-8.5-x-11-in.jpg
END:VEVENT
BEGIN:VEVENT
DTSTART;TZID=America/Denver:20250708T100000
DTEND;TZID=America/Denver:20250708T110000
DTSTAMP:20260422T041559
CREATED:20250609T182243Z
LAST-MODIFIED:20250609T182244Z
UID:3072-1751968800-1751972400@www.spld.org
SUMMARY:Summer Reading at Spanish Peaks Library
DESCRIPTION:Books And Prizes!!!
URL:https://www.spld.org/event/summer-reading-at-spanish-peaks-library-6/
LOCATION:SPLD-Meeting Room\, 415 Walsen Ave\, Walsenburg\, CO\, 81089\, United States
CATEGORIES:Adults,Home Page,Kids
ATTACH;FMTTYPE=application/pdf:https://www.spld.org/wp-content/uploads/2025/06/Summer-Reading-Flyer-2025-05-30_151917-1-1.pdf
END:VEVENT
BEGIN:VEVENT
DTSTART;TZID=America/Denver:20250710T100000
DTEND;TZID=America/Denver:20250710T110000
DTSTAMP:20260422T041559
CREATED:20250609T182459Z
LAST-MODIFIED:20250609T182459Z
UID:3075-1752141600-1752145200@www.spld.org
SUMMARY:Summer Reading at Spanish Peaks Library
DESCRIPTION:Books and Prizes!!!
URL:https://www.spld.org/event/summer-reading-at-spanish-peaks-library-7/
LOCATION:SPLD-Meeting Room\, 415 Walsen Ave\, Walsenburg\, CO\, 81089\, United States
CATEGORIES:Adults,Home Page,Kids
ATTACH;FMTTYPE=application/pdf:https://www.spld.org/wp-content/uploads/2025/06/Summer-Reading-Flyer-2025-05-30_151917-1-2.pdf
END:VEVENT
BEGIN:VEVENT
DTSTART;TZID=America/Denver:20250711T103000
DTEND;TZID=America/Denver:20250711T123000
DTSTAMP:20260422T041559
CREATED:20240630T161803Z
LAST-MODIFIED:20250609T164647Z
UID:2453-1752229800-1752237000@www.spld.org
SUMMARY:Camp Plushie Day Camp
DESCRIPTION:Please call 719-738-2774 to sign up!
URL:https://www.spld.org/event/camp-plushie/
LOCATION:Spanish Peaks Library\, 415 Walsen Ave\, Walsenburg\, CO\, 81089\, United States
CATEGORIES:Adults,Home Page,Kids,Teens
ATTACH;FMTTYPE=image/png:https://www.spld.org/wp-content/uploads/2024/06/copy-of-Camp-Plushie-Flyer-2025.pdf.png
END:VEVENT
BEGIN:VEVENT
DTSTART;TZID=America/Denver:20250719T100000
DTEND;TZID=America/Denver:20250719T160000
DTSTAMP:20260422T041559
CREATED:20250523T172757Z
LAST-MODIFIED:20250523T173003Z
UID:3027-1752919200-1752940800@www.spld.org
SUMMARY:2nd Annual Huerfano Maker Convention
DESCRIPTION:Workshops!! \nMaker Market!!! \nMaker & Artist Demos!!!!
URL:https://www.spld.org/event/2nd-annual-huerfano-maker-convention/
LOCATION:Huerfano County Community Center\, 928 Russel St\, Walsenburg\, CO\, 81089\, United States
CATEGORIES:Adults,Kids,Teens
ATTACH;FMTTYPE=image/jpeg:https://www.spld.org/wp-content/uploads/2025/05/Screenshot_20250517_090745_Adobe-Acrobat.jpg
END:VEVENT
BEGIN:VEVENT
DTSTART;TZID=America/Denver:20250801T140000
DTEND;TZID=America/Denver:20250801T150000
DTSTAMP:20260422T041559
CREATED:20230629T212112Z
LAST-MODIFIED:20250606T225458Z
UID:1753-1754056800-1754060400@www.spld.org
SUMMARY:Summer Reading Foam Party
DESCRIPTION:Dance and play together in the Foamy Fun!
URL:https://www.spld.org/event/summer-reading-foam-party/
LOCATION:Spanish Peaks Library\, 415 Walsen Ave\, Walsenburg\, CO\, 81089\, United States
CATEGORIES:Adults,Home Page,Kids,Teens
ATTACH;FMTTYPE=image/png:https://www.spld.org/wp-content/uploads/2023/06/Foam-Party-SRP-2025.png
END:VEVENT
BEGIN:VEVENT
DTSTART;TZID=America/Denver:20251005T113000
DTEND;TZID=America/Denver:20251005T153000
DTSTAMP:20260422T041559
CREATED:20250921T184526Z
LAST-MODIFIED:20250921T211740Z
UID:3190-1759663800-1759678200@www.spld.org
SUMMARY:Thinking Like Water Screening Event
DESCRIPTION:Spanish Peaks Library is showing the first two episodes of thinkinglikewater.com\, a documentary series by Renea Roberts about the work of Bill Zeedyk\, a riparian restoration innovator from northern New Mexico.  Bill has developed low tech\, home-made rock and wood structures that can help restore creeks and arroyos.  State and federal agencies and volunteer organizations will be on hand with information for land owners\, managers and interested people before and after the shows on Sun. Oct 5.  Approximate times are Episode 1 (75 min) starts at 11:30aM\, 30- 45 min intermission\, episode 2 (75 min) starts at 1:45pm.
URL:https://www.spld.org/event/thinking-like-water-screening-event/
LOCATION:Spanish Peaks Library\, 415 Walsen Ave\, Walsenburg\, CO\, 81089\, United States
CATEGORIES:Adults,Home Page,Kids,Teens
ATTACH;FMTTYPE=image/png:https://www.spld.org/wp-content/uploads/2025/09/Thinking-Like-Water-October-Event-Flyer.png
END:VEVENT
BEGIN:VEVENT
DTSTART;TZID=America/Denver:20251111T000000
DTEND;TZID=America/Denver:20251111T235900
DTSTAMP:20260422T041559
CREATED:20251104T194022Z
LAST-MODIFIED:20251104T194314Z
UID:3365-1762819200-1762905540@www.spld.org
SUMMARY:Closed For Veterans Day
DESCRIPTION:The Spanish Peaks Library will be closed Tuesday\, November 11th for Veterans Day to honor those that have served. For any library needs please visit our cloud library app for Ebooks and Audiobooks.
URL:https://www.spld.org/event/closed-for-veterans-day/
LOCATION:Spanish Peaks Library\, 415 Walsen Ave\, Walsenburg\, CO\, 81089\, United States
CATEGORIES:Adults,Board of Trustees,Friends,Home Page,Kids,Teens
ATTACH;FMTTYPE=image/png:https://www.spld.org/wp-content/uploads/2025/11/Veterans-Day-Library-Closed.png
END:VEVENT
BEGIN:VEVENT
DTSTART;TZID=America/Denver:20251127T000000
DTEND;TZID=America/Denver:20251127T235900
DTSTAMP:20260422T041559
CREATED:20231108T213919Z
LAST-MODIFIED:20251026T205857Z
UID:1961-1764201600-1764287940@www.spld.org
SUMMARY:Closed For Thanksgiving
DESCRIPTION:The Spanish Peaks Library District will be closed Thursday\, November 27th for the Thanksgiving Holiday.  For any library needs please visit our cloud library app for Ebooks and Audiobooks!
URL:https://www.spld.org/event/closed-for-thanksgiving/
LOCATION:Spanish Peaks Library\, 415 Walsen Ave\, Walsenburg\, CO\, 81089\, United States
CATEGORIES:Adults,Board of Trustees,Friends,Home Page,Kids,Teens
ATTACH;FMTTYPE=image/png:https://www.spld.org/wp-content/uploads/2023/11/Copy-of-Thanksgiving-Library-Closed2.png
END:VEVENT
BEGIN:VEVENT
DTSTART;TZID=America/Denver:20251128T000000
DTEND;TZID=America/Denver:20251128T235900
DTSTAMP:20260422T041559
CREATED:20240630T161429Z
LAST-MODIFIED:20251126T164912Z
UID:2451-1764288000-1764374340@www.spld.org
SUMMARY:Closed for Parade of Lights
DESCRIPTION:Spanish Peaks Library will be closed for Black Friday\, November 28th in order to attend the Parade of Lights!  The Library will reopen on Sunday\, November 30th.  For any library needs please visit our cloud library app for Ebooks and Audiobooks!  Come see the SPLD’s float in the Walsenburg Parade of Lights at 6:30 PM! \n 
URL:https://www.spld.org/event/closed-for-holiday/
LOCATION:Spanish Peaks Library\, 415 Walsen Ave\, Walsenburg\, CO\, 81089\, United States
CATEGORIES:Adults,Board of Trustees,Friends,Home Page,Kids,Teens
ATTACH;FMTTYPE=image/png:https://www.spld.org/wp-content/uploads/2024/06/Parade-of-Lights-flyer.png
END:VEVENT
BEGIN:VEVENT
DTSTART;TZID=America/Denver:20251203T080000
DTEND;TZID=America/Denver:20251203T170000
DTSTAMP:20260422T041559
CREATED:20251203T163856Z
LAST-MODIFIED:20251203T163856Z
UID:3510-1764748800-1764781200@www.spld.org
SUMMARY:SNOW DAY
DESCRIPTION:The Library will be closed December 3rd\, 2026 Due to severe storm warnings and in order to ensure staff safety. We should be open again tomorrow\, December 4th. Thank you for the Snow!!
URL:https://www.spld.org/event/snow-day/
LOCATION:Spanish Peaks Library\, 415 Walsen Ave\, Walsenburg\, CO\, 81089\, United States
CATEGORIES:Adults,Board of Trustees,Friends,Home Page,Kids,Teens
ATTACH;FMTTYPE=application/pdf:https://www.spld.org/wp-content/uploads/2025/12/1.pdf
END:VEVENT
BEGIN:VEVENT
DTSTART;TZID=America/Denver:20251219T103000
DTEND;TZID=America/Denver:20251219T113000
DTSTAMP:20260422T041559
CREATED:20251208T213203Z
LAST-MODIFIED:20251208T213203Z
UID:3551-1766140200-1766143800@www.spld.org
SUMMARY:SPLD Santa Gift Shop
DESCRIPTION:Join SPLD for a free Santa Gift Shop today\, December 19th\, from 10:30 to 11:30 AM. This event allows kids to come and shop at Santa’s Gift Shop for free. There will be free toys\, clothing\, books\, and more! We hope to see all of you there!
URL:https://www.spld.org/event/spld-santa-gift-shop/
LOCATION:Spanish Peaks Library\, 415 Walsen Ave\, Walsenburg\, CO\, 81089\, United States
CATEGORIES:Home Page,Kids
ATTACH;FMTTYPE=image/jpeg:https://www.spld.org/wp-content/uploads/2025/12/SPLD-Santa-gift-shop.jpg
END:VEVENT
END:VCALENDAR