BEGIN:VCALENDAR
VERSION:2.0
PRODID:-//SPLD - ECPv6.15.20//NONSGML v1.0//EN
CALSCALE:GREGORIAN
METHOD:PUBLISH
X-WR-CALNAME:SPLD
X-ORIGINAL-URL:https://www.spld.org
X-WR-CALDESC:Events for SPLD
REFRESH-INTERVAL;VALUE=DURATION:PT1H
X-Robots-Tag:noindex
X-PUBLISHED-TTL:PT1H
BEGIN:VTIMEZONE
TZID:America/Denver
BEGIN:DAYLIGHT
TZOFFSETFROM:-0700
TZOFFSETTO:-0600
TZNAME:MDT
DTSTART:20240310T090000
END:DAYLIGHT
BEGIN:STANDARD
TZOFFSETFROM:-0600
TZOFFSETTO:-0700
TZNAME:MST
DTSTART:20241103T080000
END:STANDARD
BEGIN:DAYLIGHT
TZOFFSETFROM:-0700
TZOFFSETTO:-0600
TZNAME:MDT
DTSTART:20250309T090000
END:DAYLIGHT
BEGIN:STANDARD
TZOFFSETFROM:-0600
TZOFFSETTO:-0700
TZNAME:MST
DTSTART:20251102T080000
END:STANDARD
BEGIN:DAYLIGHT
TZOFFSETFROM:-0700
TZOFFSETTO:-0600
TZNAME:MDT
DTSTART:20260308T090000
END:DAYLIGHT
BEGIN:STANDARD
TZOFFSETFROM:-0600
TZOFFSETTO:-0700
TZNAME:MST
DTSTART:20261101T080000
END:STANDARD
BEGIN:DAYLIGHT
TZOFFSETFROM:-0700
TZOFFSETTO:-0600
TZNAME:MDT
DTSTART:20270314T090000
END:DAYLIGHT
BEGIN:STANDARD
TZOFFSETFROM:-0600
TZOFFSETTO:-0700
TZNAME:MST
DTSTART:20271107T080000
END:STANDARD
END:VTIMEZONE
BEGIN:VEVENT
DTSTART;TZID=America/Denver:20251005T113000
DTEND;TZID=America/Denver:20251005T153000
DTSTAMP:20260422T073707
CREATED:20250921T184526Z
LAST-MODIFIED:20250921T211740Z
UID:3190-1759663800-1759678200@www.spld.org
SUMMARY:Thinking Like Water Screening Event
DESCRIPTION:Spanish Peaks Library is showing the first two episodes of thinkinglikewater.com\, a documentary series by Renea Roberts about the work of Bill Zeedyk\, a riparian restoration innovator from northern New Mexico.  Bill has developed low tech\, home-made rock and wood structures that can help restore creeks and arroyos.  State and federal agencies and volunteer organizations will be on hand with information for land owners\, managers and interested people before and after the shows on Sun. Oct 5.  Approximate times are Episode 1 (75 min) starts at 11:30aM\, 30- 45 min intermission\, episode 2 (75 min) starts at 1:45pm.
URL:https://www.spld.org/event/thinking-like-water-screening-event/
LOCATION:Spanish Peaks Library\, 415 Walsen Ave\, Walsenburg\, CO\, 81089\, United States
CATEGORIES:Adults,Home Page,Kids,Teens
ATTACH;FMTTYPE=image/png:https://www.spld.org/wp-content/uploads/2025/09/Thinking-Like-Water-October-Event-Flyer.png
END:VEVENT
BEGIN:VEVENT
DTSTART;TZID=America/Denver:20251111T000000
DTEND;TZID=America/Denver:20251111T235900
DTSTAMP:20260422T073707
CREATED:20251104T194022Z
LAST-MODIFIED:20251104T194314Z
UID:3365-1762819200-1762905540@www.spld.org
SUMMARY:Closed For Veterans Day
DESCRIPTION:The Spanish Peaks Library will be closed Tuesday\, November 11th for Veterans Day to honor those that have served. For any library needs please visit our cloud library app for Ebooks and Audiobooks.
URL:https://www.spld.org/event/closed-for-veterans-day/
LOCATION:Spanish Peaks Library\, 415 Walsen Ave\, Walsenburg\, CO\, 81089\, United States
CATEGORIES:Adults,Board of Trustees,Friends,Home Page,Kids,Teens
ATTACH;FMTTYPE=image/png:https://www.spld.org/wp-content/uploads/2025/11/Veterans-Day-Library-Closed.png
END:VEVENT
BEGIN:VEVENT
DTSTART;TZID=America/Denver:20251127T000000
DTEND;TZID=America/Denver:20251127T235900
DTSTAMP:20260422T073707
CREATED:20231108T213919Z
LAST-MODIFIED:20251026T205857Z
UID:1961-1764201600-1764287940@www.spld.org
SUMMARY:Closed For Thanksgiving
DESCRIPTION:The Spanish Peaks Library District will be closed Thursday\, November 27th for the Thanksgiving Holiday.  For any library needs please visit our cloud library app for Ebooks and Audiobooks!
URL:https://www.spld.org/event/closed-for-thanksgiving/
LOCATION:Spanish Peaks Library\, 415 Walsen Ave\, Walsenburg\, CO\, 81089\, United States
CATEGORIES:Adults,Board of Trustees,Friends,Home Page,Kids,Teens
ATTACH;FMTTYPE=image/png:https://www.spld.org/wp-content/uploads/2023/11/Copy-of-Thanksgiving-Library-Closed2.png
END:VEVENT
BEGIN:VEVENT
DTSTART;TZID=America/Denver:20251128T000000
DTEND;TZID=America/Denver:20251128T235900
DTSTAMP:20260422T073707
CREATED:20240630T161429Z
LAST-MODIFIED:20251126T164912Z
UID:2451-1764288000-1764374340@www.spld.org
SUMMARY:Closed for Parade of Lights
DESCRIPTION:Spanish Peaks Library will be closed for Black Friday\, November 28th in order to attend the Parade of Lights!  The Library will reopen on Sunday\, November 30th.  For any library needs please visit our cloud library app for Ebooks and Audiobooks!  Come see the SPLD’s float in the Walsenburg Parade of Lights at 6:30 PM! \n 
URL:https://www.spld.org/event/closed-for-holiday/
LOCATION:Spanish Peaks Library\, 415 Walsen Ave\, Walsenburg\, CO\, 81089\, United States
CATEGORIES:Adults,Board of Trustees,Friends,Home Page,Kids,Teens
ATTACH;FMTTYPE=image/png:https://www.spld.org/wp-content/uploads/2024/06/Parade-of-Lights-flyer.png
END:VEVENT
BEGIN:VEVENT
DTSTART;TZID=America/Denver:20251203T080000
DTEND;TZID=America/Denver:20251203T170000
DTSTAMP:20260422T073707
CREATED:20251203T163856Z
LAST-MODIFIED:20251203T163856Z
UID:3510-1764748800-1764781200@www.spld.org
SUMMARY:SNOW DAY
DESCRIPTION:The Library will be closed December 3rd\, 2026 Due to severe storm warnings and in order to ensure staff safety. We should be open again tomorrow\, December 4th. Thank you for the Snow!!
URL:https://www.spld.org/event/snow-day/
LOCATION:Spanish Peaks Library\, 415 Walsen Ave\, Walsenburg\, CO\, 81089\, United States
CATEGORIES:Adults,Board of Trustees,Friends,Home Page,Kids,Teens
ATTACH;FMTTYPE=application/pdf:https://www.spld.org/wp-content/uploads/2025/12/1.pdf
END:VEVENT
BEGIN:VEVENT
DTSTART;TZID=America/Denver:20251219T103000
DTEND;TZID=America/Denver:20251219T113000
DTSTAMP:20260422T073707
CREATED:20251208T213203Z
LAST-MODIFIED:20251208T213203Z
UID:3551-1766140200-1766143800@www.spld.org
SUMMARY:SPLD Santa Gift Shop
DESCRIPTION:Join SPLD for a free Santa Gift Shop today\, December 19th\, from 10:30 to 11:30 AM. This event allows kids to come and shop at Santa’s Gift Shop for free. There will be free toys\, clothing\, books\, and more! We hope to see all of you there!
URL:https://www.spld.org/event/spld-santa-gift-shop/
LOCATION:Spanish Peaks Library\, 415 Walsen Ave\, Walsenburg\, CO\, 81089\, United States
CATEGORIES:Home Page,Kids
ATTACH;FMTTYPE=image/jpeg:https://www.spld.org/wp-content/uploads/2025/12/SPLD-Santa-gift-shop.jpg
END:VEVENT
BEGIN:VEVENT
DTSTART;TZID=America/Denver:20251225T000000
DTEND;TZID=America/Denver:20251225T235900
DTSTAMP:20260422T073707
CREATED:20231202T191206Z
LAST-MODIFIED:20251223T203711Z
UID:2042-1766620800-1766707140@www.spld.org
SUMMARY:Closed for Christmas
DESCRIPTION:The Spanish Peaks Library District will be closed Thursday and Friday\, December 25th and December 26th\, for the Christmas Holiday. For any library needs\, please visit our Cloud Library app for eBooks and Audiobooks. The Library will open again on Sunday\, December 28th. Have a warm and joyful holiday!
URL:https://www.spld.org/event/closed-for-christmas/
LOCATION:Spanish Peaks Library\, 415 Walsen Ave\, Walsenburg\, CO\, 81089\, United States
CATEGORIES:Adults,Board of Trustees,Friends,Home Page,Kids,Teens
ATTACH;FMTTYPE=image/png:https://www.spld.org/wp-content/uploads/2025/11/Copy-of-Copy-of-Christmas-Closer-Sign-2025.png
END:VEVENT
BEGIN:VEVENT
DTSTART;TZID=America/Denver:20251226T000000
DTEND;TZID=America/Denver:20251226T235900
DTSTAMP:20260422T073707
CREATED:20251104T205700Z
LAST-MODIFIED:20251223T203622Z
UID:3376-1766707200-1766793540@www.spld.org
SUMMARY:Closed for Christmas
DESCRIPTION:The Spanish Peaks Library District will be closed Today\, December 26th\, for the Christmas Holiday. For any library needs\, please visit our Cloud Library app for eBooks and Audiobooks. The Library will open again on Sunday\, December 28th. Have a warm and joyful holiday!
URL:https://www.spld.org/event/closed-for-christmas-2/
LOCATION:Spanish Peaks Library\, 415 Walsen Ave\, Walsenburg\, CO\, 81089\, United States
CATEGORIES:Adults,Board of Trustees,Friends,Home Page,Kids,Teens
ATTACH;FMTTYPE=image/png:https://www.spld.org/wp-content/uploads/2025/11/Copy-of-Copy-of-Christmas-Closer-Sign-2025.png
END:VEVENT
BEGIN:VEVENT
DTSTART;TZID=America/Denver:20260101T000000
DTEND;TZID=America/Denver:20260101T235900
DTSTAMP:20260422T073707
CREATED:20231203T233206Z
LAST-MODIFIED:20251223T203850Z
UID:2077-1767225600-1767311940@www.spld.org
SUMMARY:Closed For New Year's Day
DESCRIPTION:Happy New Year! The Spanish Peaks Library District will be closed Today\, January 1st\, for the New Year Celebrations. For any Library needs\, please visit our Cloud Library app for eBooks and Audiobooks. The SPLD will re-open on Friday\, January 2nd.
URL:https://www.spld.org/event/closed-for-new-years-day/
LOCATION:Spanish Peaks Library\, 415 Walsen Ave\, Walsenburg\, CO\, 81089\, United States
CATEGORIES:Adults,Board of Trustees,Friends,Home Page,Kids,Teens
ATTACH;FMTTYPE=image/png:https://www.spld.org/wp-content/uploads/2023/12/New-Years-Closed-Flyer.png
END:VEVENT
BEGIN:VEVENT
DTSTART;TZID=America/Denver:20260119T000000
DTEND;TZID=America/Denver:20260119T235900
DTSTAMP:20260422T073707
CREATED:20251222T215239Z
LAST-MODIFIED:20251222T215239Z
UID:3767-1768780800-1768867140@www.spld.org
SUMMARY:Closed for Martin Luther King Jr. Day
DESCRIPTION:The SPLD will be closed for Martin Luther King Jr. Day. The Spanish Peaks Library District will be closed Today\, January 19th\, in honor of Dr. King’s legacy of justice\, equity\, and service. For any Library needs please visit our Cloud Library app for eBooks and Audiobooks. The Library will re-open Tomorrow\, January 20th.
URL:https://www.spld.org/event/closed-for-martin-luther-king-jr-day-2/
LOCATION:Spanish Peaks Library\, 415 Walsen Ave\, Walsenburg\, CO\, 81089\, United States
CATEGORIES:Adults,Board of Trustees,Friends,Home Page,Kids,Teens
ATTACH;FMTTYPE=image/png:https://www.spld.org/wp-content/uploads/2025/12/Copy-of-Copy-of-Martin-Luther-King-JR-Day-Closed-Flyer.png
END:VEVENT
BEGIN:VEVENT
DTSTART;TZID=America/Denver:20260123T120000
DTEND;TZID=America/Denver:20260123T140000
DTSTAMP:20260422T073707
CREATED:20251224T183919Z
LAST-MODIFIED:20251224T191022Z
UID:3801-1769169600-1769176800@www.spld.org
SUMMARY:Friendship Bracelets with Charlie Bush
DESCRIPTION:Please join Charlie Bush on January 16th and 23rd from 12-2 pm for a special handmade friendship bracelet program at the SPLD! Everyone in the community is invited no matter your age. Donations for supplies are welcome. We look forward to seeing you there!
URL:https://www.spld.org/event/friendship-bracelets-with-charlie-bush/
LOCATION:Spanish Peaks Library\, 415 Walsen Ave\, Walsenburg\, CO\, 81089\, United States
CATEGORIES:Adults,Home Page,Kids,Teens
ATTACH;FMTTYPE=image/jpeg:https://www.spld.org/wp-content/uploads/2025/12/603823264_1358495422973469_3202964589003400957_n.jpg
END:VEVENT
BEGIN:VEVENT
DTSTART;TZID=America/Denver:20260206T103000
DTEND;TZID=America/Denver:20260206T233000
DTSTAMP:20260422T073707
CREATED:20260128T175256Z
LAST-MODIFIED:20260208T194007Z
UID:3945-1770373800-1770420600@www.spld.org
SUMMARY:Teddy Bear Adoption Story Time
DESCRIPTION:Join Ms. Brittany and Ms. Ela for a Valentine’s Day Story Time Event Today\, February 6th\, from 10:30 to 11:30 AM! The Teddy Bear Adoption Story Time allows kids to Adopt a Teddy Bear and Make a Valentine’s Day Card for free. We hope to see you there!
URL:https://www.spld.org/event/teddy-bear-adoption-story-time/
LOCATION:Spanish Peaks Library\, 415 Walsen Ave\, Walsenburg\, CO\, 81089\, United States
CATEGORIES:Home Page,Kids
ATTACH;FMTTYPE=image/jpeg:https://www.spld.org/wp-content/uploads/2026/01/624487754_1387484556741222_1298796284032250840_n.jpg
END:VEVENT
BEGIN:VEVENT
DTSTART;TZID=America/Denver:20260208T020000
DTEND;TZID=America/Denver:20260208T150000
DTSTAMP:20260422T073707
CREATED:20260128T184728Z
LAST-MODIFIED:20260128T184729Z
UID:3948-1770516000-1770562800@www.spld.org
SUMMARY:Pokémon Trading Card Convention
DESCRIPTION:Join us for the first ever Pokémon trading card convention! Open to all ages on February 8th\, from 2-3 PM at the SPLD. This exciting event it free to everyone attending\, though some monetary transactions will be allowed. Enjoy complimentary Pokémon cards\, open trading\, price checkers\, a Pokémon scavenger hunt\, and fun challenges! Bring your cards and Pokémon supplies\, and we will see you there!
URL:https://www.spld.org/event/pokemon-trading-card-convention/
LOCATION:Spanish Peaks Library\, 415 Walsen Ave\, Walsenburg\, CO\, 81089\, United States
CATEGORIES:Adults,Home Page,Kids,Teens
ATTACH;FMTTYPE=application/pdf:https://www.spld.org/wp-content/uploads/2026/01/1301_001.pdf
END:VEVENT
BEGIN:VEVENT
DTSTART;TZID=America/Denver:20260216T000000
DTEND;TZID=America/Denver:20260216T235900
DTSTAMP:20260422T073707
CREATED:20240117T212645Z
LAST-MODIFIED:20260209T223458Z
UID:2171-1771200000-1771286340@www.spld.org
SUMMARY:Closed For Presidents Day
DESCRIPTION:Happy Presidents Day! The Spanish Peaks Library District will be closed Today\, February 16th\, for the Presidents Day Holiday. For any Library needs\, please visit our Cloud Library app for eBooks and eAudiobooks. The Library will reopen Tomorrow\, February 17th.
URL:https://www.spld.org/event/closed-for-presidents-day/
LOCATION:Spanish Peaks Library\, 415 Walsen Ave\, Walsenburg\, CO\, 81089\, United States
CATEGORIES:Adults,Board of Trustees,Friends,Home Page,Kids,Teens
ATTACH;FMTTYPE=image/png:https://www.spld.org/wp-content/uploads/2024/01/Blue-Red-White-Modern-Presidents-Day-Instagram-Post.png
END:VEVENT
BEGIN:VEVENT
DTSTART;TZID=America/Denver:20260306T103000
DTEND;TZID=America/Denver:20260306T113000
DTSTAMP:20260422T073707
CREATED:20240305T212935Z
LAST-MODIFIED:20251230T193036Z
UID:2318-1772793000-1772796600@www.spld.org
SUMMARY:Story time with Ms. Brittany
DESCRIPTION:Free Clothes! Free Pastries/Snacks! A Craft AND a Story!!!!! Let’s Go! \nJoin Ms. Brittany every Friday from 10:30 to 11:30 AM for Story time and Crafts!
URL:https://www.spld.org/event/storytime-with-mrs-flamingo-8/
LOCATION:SPLD-Meeting Room\, 415 Walsen Ave\, Walsenburg\, CO\, 81089\, United States
CATEGORIES:Adults,Home Page,Kids
ATTACH;FMTTYPE=image/png:https://www.spld.org/wp-content/uploads/2024/03/Colorful-Flat-Welcome-to-Our-Library-Banner.png
END:VEVENT
BEGIN:VEVENT
DTSTART;TZID=America/Denver:20260307T110000
DTEND;TZID=America/Denver:20260307T130000
DTSTAMP:20260422T073707
CREATED:20231108T202701Z
LAST-MODIFIED:20260111T201200Z
UID:1940-1772881200-1772888400@www.spld.org
SUMMARY:Gardner Bookmobile is OPEN
DESCRIPTION:We have… \nBooks: Fiction (for all ages)\, Non-Fiction (for all ages)\, Audio Books and Playaways \nDVDs \nMagazines \nBlack and White Copies and printing available \nFriends of the Library Book Nook with books for sale
URL:https://www.spld.org/event/gardner-bookmobile-is-open-2/
LOCATION:Gardner SPLD Bookmobile\, 28 County Road 632\, Gardner
CATEGORIES:Adults,Home Page,Kids,Teens
ATTACH;FMTTYPE=image/png:https://www.spld.org/wp-content/uploads/2023/11/Bookmobile-updated-hours-sign-1.png
END:VEVENT
BEGIN:VEVENT
DTSTART;TZID=America/Denver:20260313T100000
DTEND;TZID=America/Denver:20260313T150000
DTSTAMP:20260422T073707
CREATED:20220912T224959Z
LAST-MODIFIED:20260223T220536Z
UID:1194-1773396000-1773414000@www.spld.org
SUMMARY:Friends of the Spanish Peaks Library Book Sale
DESCRIPTION:Join us for a Book Sale!\n\nThe Friends of the Spanish Peaks Library Book Sale will be held Thursday\, March 12 to Saturday\, March 14th\, from 10 AM to 3 PM\, at the Spanish Peaks Library. The Friends of the Library volunteer group helps to directly support and fund the SPLD and our programs. Stop by the FOL book sale and find your next read or donate!\n\nPrices include:\nFree Kids Books\n\n$0.50 for Paperback Books and DVDs \n$1.00 for Hardback Books \nOR \n$5.00 for a Small Box \n$7.50 for a Medium Box \n$10.00 for a Large Box
URL:https://www.spld.org/event/friends-of-the-library-book-sale/
LOCATION:SPLD-Meeting Room\, 415 Walsen Ave\, Walsenburg\, CO\, 81089\, United States
CATEGORIES:Adults,Friends,Home Page,Kids
ATTACH;FMTTYPE=image/png:https://www.spld.org/wp-content/uploads/2022/02/FOL-September-Book-Sale-20251.png
END:VEVENT
BEGIN:VEVENT
DTSTART;TZID=America/Denver:20260313T103000
DTEND;TZID=America/Denver:20260313T113000
DTSTAMP:20260422T073707
CREATED:20230706T214038Z
LAST-MODIFIED:20251230T194048Z
UID:1813-1773397800-1773401400@www.spld.org
SUMMARY:Story time with Ms. Brittany
DESCRIPTION:Free Clothes! Free Pastries/Snacks! A Craft AND a Story!!!!! Let’s Go! \nJoin Ms. Brittany every Friday from 10:30 to 11:30 AM for Story time and Crafts!
URL:https://www.spld.org/event/little-flamingo-storytime/
LOCATION:SPLD-Meeting Room\, 415 Walsen Ave\, Walsenburg\, CO\, 81089\, United States
CATEGORIES:Adults,Home Page,Kids
ATTACH;FMTTYPE=image/png:https://www.spld.org/wp-content/uploads/2024/03/Colorful-Flat-Welcome-to-Our-Library-Banner.png
END:VEVENT
BEGIN:VEVENT
DTSTART;TZID=America/Denver:20260314T100000
DTEND;TZID=America/Denver:20260314T150000
DTSTAMP:20260422T073707
CREATED:20220912T225332Z
LAST-MODIFIED:20260223T220549Z
UID:1196-1773482400-1773500400@www.spld.org
SUMMARY:Friends of the Spanish Peaks Library Book Sale
DESCRIPTION:Join us for a Book Sale!\n\nThe Friends of the Spanish Peaks Library Book Sale will be held Thursday\, March 12 to Saturday\, March 14th\, from 10 AM to 3 PM\, at the Spanish Peaks Library. The Friends of the Library volunteer group helps to directly support and fund the SPLD and our programs. Stop by the FOL book sale and find your next read or donate!\n\nPrices include:\nFree Kids Books\n\n$0.50 for Paperback Books and DVDs \n$1.00 for Hardback Books \nOR \n$5.00 for a Small Box \n$7.50 for a Medium Box \n$10.00 for a Large Box
URL:https://www.spld.org/event/friends-of-the-library-book-sale-2/
LOCATION:SPLD-Meeting Room\, 415 Walsen Ave\, Walsenburg\, CO\, 81089\, United States
CATEGORIES:Adults,Friends,Home Page,Kids,Teens
ATTACH;FMTTYPE=image/png:https://www.spld.org/wp-content/uploads/2022/02/FOL-September-Book-Sale-20251.png
END:VEVENT
BEGIN:VEVENT
DTSTART;TZID=America/Denver:20260314T110000
DTEND;TZID=America/Denver:20260314T130000
DTSTAMP:20260422T073707
CREATED:20230630T215644Z
LAST-MODIFIED:20260111T201251Z
UID:1762-1773486000-1773493200@www.spld.org
SUMMARY:Gardner Bookmobile Is OPEN
DESCRIPTION:We have… \nBooks: Fiction (for all ages)\, Non-Fiction (for all ages)\, Audio Books and Playaways \nDVDs \nMagazines \nBlack and White Copies and printing available \nFriends of the Library Book Nook with books for sale
URL:https://www.spld.org/event/gardner-bookmobile-open-house/
LOCATION:Gardner SPLD Bookmobile\, 28 County Road 632\, Gardner
CATEGORIES:Adults,Board of Trustees,Friends,Kids,Teens
ATTACH;FMTTYPE=image/png:https://www.spld.org/wp-content/uploads/2023/11/Bookmobile-updated-hours-sign-1.png
END:VEVENT
BEGIN:VEVENT
DTSTART;TZID=America/Denver:20260317T180000
DTEND;TZID=America/Denver:20260317T200000
DTSTAMP:20260422T073707
CREATED:20220107T193338Z
LAST-MODIFIED:20260322T161920Z
UID:465-1773770400-1773777600@www.spld.org
SUMMARY:Trivia Night!
DESCRIPTION:Do you have the luck of the Irish?\nEVERY 3RD Tuesday 6-8PM\nGather a team and join your favorite librarians for rescheduled St. Patrick’s Day Trivia night. \nWhat to expect:\n\nFive rounds – 10 questions each round\nEach round has a topical theme\nEach question is worth one point\nTeams are allowed up to six members\nQuestions are read aloud and teams write down the answers\, turning answers in at the end of each round.\nThe team with the most points after Five rounds is the winner\nUse of cell phone/tablets/devices is forbidden\nThere is NO CHARGE to participate in trivia\n\nIrish Food and Specialty Drinks Available for Purchase!\nFor more information call 719-738-2774 \n\n\n\nTrivia is presented at:\nTHE STOKEHOUSE Restaurant \n\n408 Russell St\, Walsenburg\, CO 81089
URL:https://www.spld.org/event/trivia-night/
LOCATION:Second Street Bar & Grill\, 1399 County Road 502\, Walsenburg\, CO\, 81089\, United States
CATEGORIES:Adults,Home Page,Kids,Teens
ATTACH;FMTTYPE=image/png:https://www.spld.org/wp-content/uploads/2022/02/Copy-of-Copy-of-Copy-of-Copy-of-Copy-of-Copy-of-01-13-Trivia-Template.png
END:VEVENT
BEGIN:VEVENT
DTSTART;TZID=America/Denver:20260320T103000
DTEND;TZID=America/Denver:20260320T113000
DTSTAMP:20260422T073707
CREATED:20240305T212510Z
LAST-MODIFIED:20260318T182919Z
UID:2316-1774002600-1774006200@www.spld.org
SUMMARY:Story time with Ms. Brittany
DESCRIPTION:Story time is cancelled today\, March 20th\, due to the Walsenburg water issue. \nJoin Ms. Brittany next Friday from 10:30 to 11:30 AM for Story time and Crafts!
URL:https://www.spld.org/event/storytime-with-mrs-flamingo-7/
LOCATION:SPLD-Meeting Room\, 415 Walsen Ave\, Walsenburg\, CO\, 81089\, United States
CATEGORIES:Adults,Home Page,Kids
ATTACH;FMTTYPE=image/png:https://www.spld.org/wp-content/uploads/2024/03/New-Story-Time-Cancelled-Flyer.png
END:VEVENT
BEGIN:VEVENT
DTSTART;TZID=America/Denver:20260321T110000
DTEND;TZID=America/Denver:20260321T130000
DTSTAMP:20260422T073707
CREATED:20240725T212732Z
LAST-MODIFIED:20260111T201336Z
UID:2514-1774090800-1774098000@www.spld.org
SUMMARY:Gardner Bookmobile is OPEN
DESCRIPTION:We have… \nBooks: Fiction (for all ages)\, Non-Fiction (for all ages)\, Audio Books and Playaways \nDVDs \nMagazines \nBlack and White Copies and printing available \nFriends of the Library Book Nook with books for sale
URL:https://www.spld.org/event/gardner-bookmobile-is-open-10/
LOCATION:Gardner SPLD Bookmobile\, 28 County Road 632\, Gardner
CATEGORIES:Adults,Board of Trustees,Friends,Home Page,Kids,Teens
ATTACH;FMTTYPE=image/png:https://www.spld.org/wp-content/uploads/2023/11/Bookmobile-updated-hours-sign-1.png
END:VEVENT
BEGIN:VEVENT
DTSTART;TZID=America/Denver:20260327T103000
DTEND;TZID=America/Denver:20260327T113000
DTSTAMP:20260422T073707
CREATED:20230119T220751Z
LAST-MODIFIED:20260210T205839Z
UID:1422-1774607400-1774611000@www.spld.org
SUMMARY:Story time with Ms. Brittany
DESCRIPTION:Free Clothes! Free Pastries/Snacks! A Craft AND a Story!!!!! Let’s Go! \nJoin Ms. Brittany every Friday from 10:30 to 11:30 AM for Story time and Crafts!
URL:https://www.spld.org/event/storytime-2/
LOCATION:SPLD-Meeting Room\, 415 Walsen Ave\, Walsenburg\, CO\, 81089\, United States
CATEGORIES:Adults,Home Page,Kids
ATTACH;FMTTYPE=image/png:https://www.spld.org/wp-content/uploads/2024/03/Colorful-Flat-Welcome-to-Our-Library-Banner.png
END:VEVENT
BEGIN:VEVENT
DTSTART;TZID=America/Denver:20260328T110000
DTEND;TZID=America/Denver:20260328T130000
DTSTAMP:20260422T073707
CREATED:20240725T213519Z
LAST-MODIFIED:20260111T201418Z
UID:2516-1774695600-1774702800@www.spld.org
SUMMARY:Gardner Bookmobile is OPEN
DESCRIPTION:We have… \nBooks: Fiction (for all ages)\, Non-Fiction (for all ages)\, Audio Books and Playaways \nDVDs \nMagazines \nBlack and White Copies and printing available \nFriends of the Library Book Nook with books for sale
URL:https://www.spld.org/event/gardner-bookmobile-is-open-11/
LOCATION:Gardner SPLD Bookmobile\, 28 County Road 632\, Gardner
CATEGORIES:Adults,Board of Trustees,Friends,Home Page,Kids,Teens
ATTACH;FMTTYPE=image/png:https://www.spld.org/wp-content/uploads/2023/11/Bookmobile-updated-hours-sign-1.png
END:VEVENT
BEGIN:VEVENT
DTSTART;TZID=America/Denver:20260329T140000
DTEND;TZID=America/Denver:20260329T160000
DTSTAMP:20260422T073707
CREATED:20251224T183921Z
LAST-MODIFIED:20260223T223639Z
UID:3799-1774792800-1774800000@www.spld.org
SUMMARY:Friendship Bracelets with Charlie Bush
DESCRIPTION:Please join Charlie Bush on March\, 29th from 2-4 pm for a special handmade friendship bracelet program at the SPLD! Everyone in the community is invited no matter your age. Donations for supplies are welcome. We look forward to seeing you there!
URL:https://www.spld.org/event/friendship-bracelets-with-charlie-bush-2/
LOCATION:Spanish Peaks Library\, 415 Walsen Ave\, Walsenburg\, CO\, 81089\, United States
CATEGORIES:Adults,Home Page,Kids,Teens
ATTACH;FMTTYPE=image/jpeg:https://www.spld.org/wp-content/uploads/2025/12/603823264_1358495422973469_3202964589003400957_n.jpg
END:VEVENT
BEGIN:VEVENT
DTSTART;TZID=America/Denver:20260403T103000
DTEND;TZID=America/Denver:20260403T113000
DTSTAMP:20260422T073707
CREATED:20230706T214301Z
LAST-MODIFIED:20260210T195651Z
UID:1815-1775212200-1775215800@www.spld.org
SUMMARY:Story time with Ms. Brittany
DESCRIPTION:Free Clothes! Free Pastries/Snacks! A Craft AND a Story!!!!! Let’s Go! \nJoin Ms. Brittany every Friday from 10:30 to 11:30 AM for Story time and Crafts!
URL:https://www.spld.org/event/little-flamingo-storytime-2/
LOCATION:SPLD-Meeting Room\, 415 Walsen Ave\, Walsenburg\, CO\, 81089\, United States
CATEGORIES:Adults,Home Page,Kids
ATTACH;FMTTYPE=image/png:https://www.spld.org/wp-content/uploads/2024/03/Colorful-Flat-Welcome-to-Our-Library-Banner.png
END:VEVENT
BEGIN:VEVENT
DTSTART;TZID=America/Denver:20260404T110000
DTEND;TZID=America/Denver:20260404T130000
DTSTAMP:20260422T073707
CREATED:20240725T213801Z
LAST-MODIFIED:20260210T200049Z
UID:2518-1775300400-1775307600@www.spld.org
SUMMARY:Gardner Bookmobile is OPEN
DESCRIPTION:We have… \nBooks: Fiction (for all ages)\, Non-Fiction (for all ages)\, Audio Books and Playaways \nDVDs \nMagazines \nBlack and White Copies and printing available \nFriends of the Library Book Nook with books for sale
URL:https://www.spld.org/event/gardner-bookmobile-is-open-12/
LOCATION:Gardner SPLD Bookmobile\, 28 County Road 632\, Gardner
CATEGORIES:Adults,Board of Trustees,Friends,Home Page,Kids,Teens
ATTACH;FMTTYPE=image/png:https://www.spld.org/wp-content/uploads/2023/11/Bookmobile-updated-hours-sign-1.png
END:VEVENT
BEGIN:VEVENT
DTSTART;TZID=America/Denver:20260405T000000
DTEND;TZID=America/Denver:20260405T235900
DTSTAMP:20260422T073707
CREATED:20250418T165553Z
LAST-MODIFIED:20260322T190917Z
UID:2973-1775347200-1775433540@www.spld.org
SUMMARY:Closed for Easter Holiday
DESCRIPTION:The Spanish Peaks Library will be closed Today\, April 5th\, for the Easter Holiday. We wish all who celebrate a joyful and peaceful day! For any Library needs\, please visit our Cloud Library app for eBooks and eAudiobooks. The Library will reopen Tomorrow\, April 6th.
URL:https://www.spld.org/event/closed-for-easter-holiday-back-tomorrow-930am/
LOCATION:Spanish Peaks Library\, 415 Walsen Ave\, Walsenburg\, CO\, 81089\, United States
CATEGORIES:Adults,Board of Trustees,Friends,Home Page,Kids,Teens
ATTACH;FMTTYPE=image/png:https://www.spld.org/wp-content/uploads/2025/04/Copy-of-Closed-for-Easter.png
END:VEVENT
BEGIN:VEVENT
DTSTART;TZID=America/Denver:20260406T130000
DTEND;TZID=America/Denver:20260406T140000
DTSTAMP:20260422T073707
CREATED:20251123T213858Z
LAST-MODIFIED:20260331T182214Z
UID:3475-1775480400-1775484000@www.spld.org
SUMMARY:Mommy & Me Physical Wellness Program
DESCRIPTION:Please join Ms. Brittany today for the Mommy & Me Physical Wellness Program! This SPLD Program invites the whole family (ALL ages are invited) to support our mothers to be physically\, mentally\, and spiritually fit in 2026! Held every Monday and Friday from 1-2 PM in the SPLD Community Room. This program features interchangeable strength-training routines for moms\, including meditation\, yoga\, strength-training\, and nature walks at Lathrop State Park – Colorado Parks and Wildlife if weather permits. Please bring a yoga mat and water bottle. We look forward to seeing you there!
URL:https://www.spld.org/event/mommy-me-yoga-9/
LOCATION:Spanish Peaks Library\, 415 Walsen Ave\, Walsenburg\, CO\, 81089\, United States
CATEGORIES:Adults,Home Page,Kids,Teens
ATTACH;FMTTYPE=image/jpeg:https://www.spld.org/wp-content/uploads/2025/11/Physical-Wellness-Program.jpg
END:VEVENT
END:VCALENDAR