BEGIN:VCALENDAR
VERSION:2.0
PRODID:-//SPLD - ECPv6.15.20//NONSGML v1.0//EN
CALSCALE:GREGORIAN
METHOD:PUBLISH
X-WR-CALNAME:SPLD
X-ORIGINAL-URL:https://www.spld.org
X-WR-CALDESC:Events for SPLD
REFRESH-INTERVAL;VALUE=DURATION:PT1H
X-Robots-Tag:noindex
X-PUBLISHED-TTL:PT1H
BEGIN:VTIMEZONE
TZID:America/Denver
BEGIN:DAYLIGHT
TZOFFSETFROM:-0700
TZOFFSETTO:-0600
TZNAME:MDT
DTSTART:20250309T090000
END:DAYLIGHT
BEGIN:STANDARD
TZOFFSETFROM:-0600
TZOFFSETTO:-0700
TZNAME:MST
DTSTART:20251102T080000
END:STANDARD
BEGIN:DAYLIGHT
TZOFFSETFROM:-0700
TZOFFSETTO:-0600
TZNAME:MDT
DTSTART:20260308T090000
END:DAYLIGHT
BEGIN:STANDARD
TZOFFSETFROM:-0600
TZOFFSETTO:-0700
TZNAME:MST
DTSTART:20261101T080000
END:STANDARD
BEGIN:DAYLIGHT
TZOFFSETFROM:-0700
TZOFFSETTO:-0600
TZNAME:MDT
DTSTART:20270314T090000
END:DAYLIGHT
BEGIN:STANDARD
TZOFFSETFROM:-0600
TZOFFSETTO:-0700
TZNAME:MST
DTSTART:20271107T080000
END:STANDARD
END:VTIMEZONE
BEGIN:VEVENT
DTSTART;TZID=America/Denver:20260328T110000
DTEND;TZID=America/Denver:20260328T130000
DTSTAMP:20260422T105448
CREATED:20240725T213519Z
LAST-MODIFIED:20260111T201418Z
UID:2516-1774695600-1774702800@www.spld.org
SUMMARY:Gardner Bookmobile is OPEN
DESCRIPTION:We have… \nBooks: Fiction (for all ages)\, Non-Fiction (for all ages)\, Audio Books and Playaways \nDVDs \nMagazines \nBlack and White Copies and printing available \nFriends of the Library Book Nook with books for sale
URL:https://www.spld.org/event/gardner-bookmobile-is-open-11/
LOCATION:Gardner SPLD Bookmobile\, 28 County Road 632\, Gardner
CATEGORIES:Adults,Board of Trustees,Friends,Home Page,Kids,Teens
ATTACH;FMTTYPE=image/png:https://www.spld.org/wp-content/uploads/2023/11/Bookmobile-updated-hours-sign-1.png
END:VEVENT
BEGIN:VEVENT
DTSTART;TZID=America/Denver:20260329T140000
DTEND;TZID=America/Denver:20260329T160000
DTSTAMP:20260422T105448
CREATED:20251224T183921Z
LAST-MODIFIED:20260223T223639Z
UID:3799-1774792800-1774800000@www.spld.org
SUMMARY:Friendship Bracelets with Charlie Bush
DESCRIPTION:Please join Charlie Bush on March\, 29th from 2-4 pm for a special handmade friendship bracelet program at the SPLD! Everyone in the community is invited no matter your age. Donations for supplies are welcome. We look forward to seeing you there!
URL:https://www.spld.org/event/friendship-bracelets-with-charlie-bush-2/
LOCATION:Spanish Peaks Library\, 415 Walsen Ave\, Walsenburg\, CO\, 81089\, United States
CATEGORIES:Adults,Home Page,Kids,Teens
ATTACH;FMTTYPE=image/jpeg:https://www.spld.org/wp-content/uploads/2025/12/603823264_1358495422973469_3202964589003400957_n.jpg
END:VEVENT
BEGIN:VEVENT
DTSTART;TZID=America/Denver:20260403T103000
DTEND;TZID=America/Denver:20260403T113000
DTSTAMP:20260422T105448
CREATED:20230706T214301Z
LAST-MODIFIED:20260210T195651Z
UID:1815-1775212200-1775215800@www.spld.org
SUMMARY:Story time with Ms. Brittany
DESCRIPTION:Free Clothes! Free Pastries/Snacks! A Craft AND a Story!!!!! Let’s Go! \nJoin Ms. Brittany every Friday from 10:30 to 11:30 AM for Story time and Crafts!
URL:https://www.spld.org/event/little-flamingo-storytime-2/
LOCATION:SPLD-Meeting Room\, 415 Walsen Ave\, Walsenburg\, CO\, 81089\, United States
CATEGORIES:Adults,Home Page,Kids
ATTACH;FMTTYPE=image/png:https://www.spld.org/wp-content/uploads/2024/03/Colorful-Flat-Welcome-to-Our-Library-Banner.png
END:VEVENT
BEGIN:VEVENT
DTSTART;TZID=America/Denver:20260404T110000
DTEND;TZID=America/Denver:20260404T130000
DTSTAMP:20260422T105448
CREATED:20240725T213801Z
LAST-MODIFIED:20260210T200049Z
UID:2518-1775300400-1775307600@www.spld.org
SUMMARY:Gardner Bookmobile is OPEN
DESCRIPTION:We have… \nBooks: Fiction (for all ages)\, Non-Fiction (for all ages)\, Audio Books and Playaways \nDVDs \nMagazines \nBlack and White Copies and printing available \nFriends of the Library Book Nook with books for sale
URL:https://www.spld.org/event/gardner-bookmobile-is-open-12/
LOCATION:Gardner SPLD Bookmobile\, 28 County Road 632\, Gardner
CATEGORIES:Adults,Board of Trustees,Friends,Home Page,Kids,Teens
ATTACH;FMTTYPE=image/png:https://www.spld.org/wp-content/uploads/2023/11/Bookmobile-updated-hours-sign-1.png
END:VEVENT
BEGIN:VEVENT
DTSTART;TZID=America/Denver:20260405T000000
DTEND;TZID=America/Denver:20260405T235900
DTSTAMP:20260422T105448
CREATED:20250418T165553Z
LAST-MODIFIED:20260322T190917Z
UID:2973-1775347200-1775433540@www.spld.org
SUMMARY:Closed for Easter Holiday
DESCRIPTION:The Spanish Peaks Library will be closed Today\, April 5th\, for the Easter Holiday. We wish all who celebrate a joyful and peaceful day! For any Library needs\, please visit our Cloud Library app for eBooks and eAudiobooks. The Library will reopen Tomorrow\, April 6th.
URL:https://www.spld.org/event/closed-for-easter-holiday-back-tomorrow-930am/
LOCATION:Spanish Peaks Library\, 415 Walsen Ave\, Walsenburg\, CO\, 81089\, United States
CATEGORIES:Adults,Board of Trustees,Friends,Home Page,Kids,Teens
ATTACH;FMTTYPE=image/png:https://www.spld.org/wp-content/uploads/2025/04/Copy-of-Closed-for-Easter.png
END:VEVENT
BEGIN:VEVENT
DTSTART;TZID=America/Denver:20260406T130000
DTEND;TZID=America/Denver:20260406T140000
DTSTAMP:20260422T105448
CREATED:20251123T213858Z
LAST-MODIFIED:20260331T182214Z
UID:3475-1775480400-1775484000@www.spld.org
SUMMARY:Mommy & Me Physical Wellness Program
DESCRIPTION:Please join Ms. Brittany today for the Mommy & Me Physical Wellness Program! This SPLD Program invites the whole family (ALL ages are invited) to support our mothers to be physically\, mentally\, and spiritually fit in 2026! Held every Monday and Friday from 1-2 PM in the SPLD Community Room. This program features interchangeable strength-training routines for moms\, including meditation\, yoga\, strength-training\, and nature walks at Lathrop State Park – Colorado Parks and Wildlife if weather permits. Please bring a yoga mat and water bottle. We look forward to seeing you there!
URL:https://www.spld.org/event/mommy-me-yoga-9/
LOCATION:Spanish Peaks Library\, 415 Walsen Ave\, Walsenburg\, CO\, 81089\, United States
CATEGORIES:Adults,Home Page,Kids,Teens
ATTACH;FMTTYPE=image/jpeg:https://www.spld.org/wp-content/uploads/2025/11/Physical-Wellness-Program.jpg
END:VEVENT
BEGIN:VEVENT
DTSTART;TZID=America/Denver:20260410T103000
DTEND;TZID=America/Denver:20260410T113000
DTSTAMP:20260422T105448
CREATED:20230403T183303Z
LAST-MODIFIED:20260409T220243Z
UID:1636-1775817000-1775820600@www.spld.org
SUMMARY:Poetry Month Story time with Ms. Brittany
DESCRIPTION:April is National Poetry Month and the SPLD Poetry Contest! This month enjoy fun Poetry Story times with the opportunity for children’s submissions! \nFree Clothes! Free Pastries/Snacks! A Craft AND a Story!!!!! Let’s Go! \nJoin Ms. Brittany every Friday from 10:30 to 11:30 AM for Story time and Crafts!
URL:https://www.spld.org/event/storytime-with-mrs-flamingo-6/
LOCATION:SPLD-Meeting Room\, 415 Walsen Ave\, Walsenburg\, CO\, 81089\, United States
CATEGORIES:Adults,Home Page,Kids
ATTACH;FMTTYPE=image/png:https://www.spld.org/wp-content/uploads/2023/04/Poetry-Month-Storytime-Flyer.png
END:VEVENT
BEGIN:VEVENT
DTSTART;TZID=America/Denver:20260410T130000
DTEND;TZID=America/Denver:20260410T140000
DTSTAMP:20260422T105448
CREATED:20251105T202058Z
LAST-MODIFIED:20260406T203253Z
UID:3398-1775826000-1775829600@www.spld.org
SUMMARY:Mommy & Me Physical Wellness Program
DESCRIPTION:The Mommy & Me Physical Wellness Program is cancelled Today due to staff workshop. \nPlease join Ms. Brittany next Monday from 1-2 PM for the Mommy & Me Physical Wellness Program! This SPLD Program invites the whole family (ALL ages are invited) to support our mothers to be physically\, mentally\, and spiritually fit in 2026! This program features interchangeable strength-training routines for moms\, including meditation\, yoga\, strength-training\, and nature walks at Lathrop State Park – Colorado Parks and Wildlife if weather permits. Please bring a yoga mat and water bottle. We look forward to seeing you there!
URL:https://www.spld.org/event/mommy-me-yoga-3/
LOCATION:Spanish Peaks Library\, 415 Walsen Ave\, Walsenburg\, CO\, 81089\, United States
CATEGORIES:Adults,Home Page,Kids,Teens
ATTACH;FMTTYPE=image/jpeg:https://www.spld.org/wp-content/uploads/2025/11/Physical-Wellness-Program.jpg
END:VEVENT
BEGIN:VEVENT
DTSTART;TZID=America/Denver:20260411T110000
DTEND;TZID=America/Denver:20260411T130000
DTSTAMP:20260422T105448
CREATED:20231203T231212Z
LAST-MODIFIED:20260210T200131Z
UID:2070-1775905200-1775912400@www.spld.org
SUMMARY:Gardner Bookmobile is OPEN
DESCRIPTION:We have… \nBooks: Fiction (for all ages)\, Non-Fiction (for all ages)\, Audio Books and Playaways \nDVDs \nMagazines \nBlack and White Copies and printing available \nFriends of the Library Book Nook with books for sale
URL:https://www.spld.org/event/gardner-bookmobile-is-open-8/
LOCATION:Gardner SPLD Bookmobile\, 28 County Road 632\, Gardner
CATEGORIES:Adults,Home Page,Kids,Teens
ATTACH;FMTTYPE=image/png:https://www.spld.org/wp-content/uploads/2023/11/Bookmobile-updated-hours-sign-1.png
END:VEVENT
BEGIN:VEVENT
DTSTART;TZID=America/Denver:20260413T130000
DTEND;TZID=America/Denver:20260413T140000
DTSTAMP:20260422T105448
CREATED:20251123T213346Z
LAST-MODIFIED:20260412T172633Z
UID:3473-1776085200-1776088800@www.spld.org
SUMMARY:Mommy & Me Physical Wellness Program
DESCRIPTION:Please join Ms. Brittany today for the Mommy & Me Physical Wellness Program! This SPLD Program invites the whole family (ALL ages are invited) to support our mothers to be physically\, mentally\, and spiritually fit in 2026! Held every Monday and Friday from 1-2 PM in the SPLD Community Room. This program features interchangeable strength-training routines for moms\, including meditation\, yoga\, strength-training\, and nature walks at Lathrop State Park – Colorado Parks and Wildlife if weather permits. Please bring a yoga mat and water bottle. We look forward to seeing you there!
URL:https://www.spld.org/event/mommy-me-yoga-8/
LOCATION:Spanish Peaks Library\, 415 Walsen Ave\, Walsenburg\, CO\, 81089\, United States
CATEGORIES:Adults,Home Page,Kids,Teens
ATTACH;FMTTYPE=image/jpeg:https://www.spld.org/wp-content/uploads/2025/11/Physical-Wellness-Program.jpg
END:VEVENT
BEGIN:VEVENT
DTSTART;TZID=America/Denver:20260417T103000
DTEND;TZID=America/Denver:20260417T113000
DTSTAMP:20260422T105448
CREATED:20240305T213345Z
LAST-MODIFIED:20260409T220217Z
UID:2320-1776421800-1776425400@www.spld.org
SUMMARY:Poetry Month Story time with Ms. Brittany
DESCRIPTION:April is National Poetry Month and the SPLD Poetry Contest! This month enjoy fun Poetry Story times with the opportunity for children’s submissions! \nFree Clothes! Free Pastries/Snacks! A Craft AND a Story!!!!! Let’s Go! \nJoin Ms. Brittany every Friday from 10:30 to 11:30 AM for Story time and Crafts!
URL:https://www.spld.org/event/storytime-with-mrs-flamingo-9/
LOCATION:SPLD-Meeting Room\, 415 Walsen Ave\, Walsenburg\, CO\, 81089\, United States
CATEGORIES:Adults,Friends,Kids
ATTACH;FMTTYPE=image/png:https://www.spld.org/wp-content/uploads/2023/04/Poetry-Month-Storytime-Flyer.png
END:VEVENT
BEGIN:VEVENT
DTSTART;TZID=America/Denver:20260417T130000
DTEND;TZID=America/Denver:20260417T140000
DTSTAMP:20260422T105448
CREATED:20251105T202713Z
LAST-MODIFIED:20260407T200030Z
UID:3407-1776430800-1776434400@www.spld.org
SUMMARY:Mommy & Me Physical Wellness Program
DESCRIPTION:Please join Ms. Brittany today for the Mommy & Me Physical Wellness Program! This SPLD Program invites the whole family (ALL ages are invited) to support our mothers to be physically\, mentally\, and spiritually fit in 2026! Held every Monday and Friday from 1-2 PM in the SPLD Community Room. This program features interchangeable strength-training routines for moms\, including meditation\, yoga\, strength-training\, and nature walks at Lathrop State Park – Colorado Parks and Wildlife if weather permits. Please bring a yoga mat and water bottle. We look forward to seeing you there!
URL:https://www.spld.org/event/mommy-me-yoga-7/
LOCATION:Spanish Peaks Library\, 415 Walsen Ave\, Walsenburg\, CO\, 81089\, United States
CATEGORIES:Adults,Home Page,Kids,Teens
ATTACH;FMTTYPE=image/jpeg:https://www.spld.org/wp-content/uploads/2025/11/Physical-Wellness-Program.jpg
END:VEVENT
BEGIN:VEVENT
DTSTART;TZID=America/Denver:20260418T110000
DTEND;TZID=America/Denver:20260418T130000
DTSTAMP:20260422T105448
CREATED:20231203T231443Z
LAST-MODIFIED:20260210T200151Z
UID:2073-1776510000-1776517200@www.spld.org
SUMMARY:Gardner Bookmobile is OPEN
DESCRIPTION:We have… \nBooks: Fiction (for all ages)\, Non-Fiction (for all ages)\, Audio Books and Playaways \nDVDs \nMagazines \nBlack and White Copies and printing available \nFriends of the Library Book Nook with books for sale
URL:https://www.spld.org/event/gardner-bookmobile-is-open-9/
LOCATION:Gardner SPLD Bookmobile\, 28 County Road 632\, Gardner
CATEGORIES:Adults,Home Page,Kids,Teens
ATTACH;FMTTYPE=image/png:https://www.spld.org/wp-content/uploads/2023/11/Bookmobile-updated-hours-sign-1.png
END:VEVENT
BEGIN:VEVENT
DTSTART;TZID=America/Denver:20260420T130000
DTEND;TZID=America/Denver:20260420T140000
DTSTAMP:20260422T105448
CREATED:20251105T202534Z
LAST-MODIFIED:20260412T173819Z
UID:3405-1776690000-1776693600@www.spld.org
SUMMARY:Mommy & Me Physical Wellness Program
DESCRIPTION:Please join Ms. Brittany today for the Mommy & Me Physical Wellness Program! This SPLD Program invites the whole family (ALL ages are invited) to support our mothers to be physically\, mentally\, and spiritually fit in 2026! Held every Monday and Friday from 1-2 PM in the SPLD Community Room. This program features interchangeable strength-training routines for moms\, including meditation\, yoga\, strength-training\, and nature walks at Lathrop State Park – Colorado Parks and Wildlife if weather permits. Please bring a yoga mat and water bottle. We look forward to seeing you there!
URL:https://www.spld.org/event/mommy-me-yoga-6/
LOCATION:Spanish Peaks Library\, 415 Walsen Ave\, Walsenburg\, CO\, 81089\, United States
CATEGORIES:Adults,Home Page,Kids,Teens
ATTACH;FMTTYPE=image/jpeg:https://www.spld.org/wp-content/uploads/2025/11/Physical-Wellness-Program.jpg
END:VEVENT
BEGIN:VEVENT
DTSTART;TZID=America/Denver:20260421T180000
DTEND;TZID=America/Denver:20260421T200000
DTSTAMP:20260422T105448
CREATED:20230214T220939Z
LAST-MODIFIED:20260331T173003Z
UID:1496-1776794400-1776801600@www.spld.org
SUMMARY:Trivia Night
DESCRIPTION:EVERY 3RD Tuesday 6-8PM\nGather a team and join your favorite librarians for a night of trivia. \nWhat to expect:\n\nFive rounds – 10 questions each round\nEach round has a topical theme\nEach question is worth one point\nTeams are allowed up to six members\nQuestions are read aloud and teams write down the answers\, turning answers in at the end of each round.\nThe team with the most points after Five rounds is the winner\nUse of cell phone/tablets/devices is forbidden\nThere is NO CHARGE to participate in trivia\n\nFood & Drink will be available for purchase\nFor more information call 719-738-2774 \n\n\n\nTrivia is presented at:\nTHE STOKEHOUSE Restaurant \n\n408 Russell St\, Walsenburg\, CO 81089
URL:https://www.spld.org/event/trivia-night-5/
LOCATION:THE STOKEHOUSE\, 408 Russell St\, Walsenburg\, 81089\, United States
CATEGORIES:Adults,Home Page,Kids,Teens
ATTACH;FMTTYPE=image/png:https://www.spld.org/wp-content/uploads/2022/02/Copy-of-Copy-of-Copy-of-Copy-of-Copy-of-Copy-of-Copy-of-01-13-Trivia-Template.png
END:VEVENT
BEGIN:VEVENT
DTSTART;TZID=America/Denver:20260424T103000
DTEND;TZID=America/Denver:20260424T113000
DTSTAMP:20260422T105448
CREATED:20230119T220547Z
LAST-MODIFIED:20260409T220149Z
UID:1420-1777026600-1777030200@www.spld.org
SUMMARY:Poetry Month Story time with Ms. Brittany
DESCRIPTION:April is National Poetry Month and the SPLD Poetry Contest! This month enjoy fun Poetry Story times with the opportunity for children’s submissions! \nFree Clothes! Free Pastries/Snacks! A Craft AND a Story!!!!! Let’s Go! \nJoin Ms. Brittany every Friday from 10:30 to 11:30 AM for Story time and Crafts!
URL:https://www.spld.org/event/toddler-storytime/
LOCATION:SPLD-Meeting Room\, 415 Walsen Ave\, Walsenburg\, CO\, 81089\, United States
CATEGORIES:Adults,Home Page,Kids
ATTACH;FMTTYPE=image/png:https://www.spld.org/wp-content/uploads/2023/04/Poetry-Month-Storytime-Flyer.png
END:VEVENT
BEGIN:VEVENT
DTSTART;TZID=America/Denver:20260424T130000
DTEND;TZID=America/Denver:20260424T140000
DTSTAMP:20260422T105448
CREATED:20251105T202404Z
LAST-MODIFIED:20260407T200142Z
UID:3403-1777035600-1777039200@www.spld.org
SUMMARY:Mommy & Me Physical Wellness Program
DESCRIPTION:Join Ms. Brittany Today for this Program!  The SPLD Mommy & Me Physical Wellness Program invites the whole family (ALL ages are invited) to support our mothers to be physically\, mentally\, and spiritually fit in 2026! Held every Monday and Friday from 1-2 PM in the SPLD Community Room. This program features interchangeable strength-training routines for moms\, including meditation\, yoga\, strength-training\, and nature walks at Lathrop State Park – Colorado Parks and Wildlife if weather permits. Please bring a yoga mat and water bottle.
URL:https://www.spld.org/event/mommy-me-yoga-5/
LOCATION:Spanish Peaks Library\, 415 Walsen Ave\, Walsenburg\, CO\, 81089\, United States
CATEGORIES:Adults,Home Page,Kids,Teens
ATTACH;FMTTYPE=image/jpeg:https://www.spld.org/wp-content/uploads/2025/11/Physical-Wellness-Program.jpg
END:VEVENT
BEGIN:VEVENT
DTSTART;TZID=America/Denver:20260425T110000
DTEND;TZID=America/Denver:20260425T130000
DTSTAMP:20260422T105448
CREATED:20231108T205707Z
LAST-MODIFIED:20260210T200231Z
UID:1949-1777114800-1777122000@www.spld.org
SUMMARY:Gardner Bookmobile is OPEN
DESCRIPTION:We have… \nBooks: Fiction (for all ages)\, Non-Fiction (for all ages)\, Audio Books and Playaways \nDVDs \nMagazines \nBlack and White Copies and printing available \nFriends of the Library Book Nook with books for sale
URL:https://www.spld.org/event/gardner-bookmobile-is-open-3/
LOCATION:Gardner SPLD Bookmobile\, 28 County Road 632\, Gardner
CATEGORIES:Adults,Home Page,Kids,Teens
ATTACH;FMTTYPE=image/png:https://www.spld.org/wp-content/uploads/2023/11/Bookmobile-updated-hours-sign-1.png
END:VEVENT
BEGIN:VEVENT
DTSTART;TZID=America/Denver:20260427T130000
DTEND;TZID=America/Denver:20260427T140000
DTSTAMP:20260422T105448
CREATED:20251105T201850Z
LAST-MODIFIED:20260407T200202Z
UID:3396-1777294800-1777298400@www.spld.org
SUMMARY:Mommy & Me Physical Wellness Program
DESCRIPTION:Please join Ms. Brittany today for the Mommy & Me Physical Wellness Program! This SPLD Program invites the whole family (ALL ages are invited) to support our mothers to be physically\, mentally\, and spiritually fit in 2026! Held every Monday and Friday from 1-2 PM in the SPLD Community Room. This program features interchangeable strength-training routines for moms\, including meditation\, yoga\, strength-training\, and nature walks at Lathrop State Park – Colorado Parks and Wildlife if weather permits. Please bring a yoga mat and water bottle. We look forward to seeing you there!
URL:https://www.spld.org/event/mommy-me-yoga-2/
LOCATION:Spanish Peaks Library\, 415 Walsen Ave\, Walsenburg\, CO\, 81089\, United States
CATEGORIES:Adults,Home Page,Kids,Teens
ATTACH;FMTTYPE=image/jpeg:https://www.spld.org/wp-content/uploads/2025/11/Physical-Wellness-Program.jpg
END:VEVENT
BEGIN:VEVENT
DTSTART;TZID=America/Denver:20260501T103000
DTEND;TZID=America/Denver:20260501T113000
DTSTAMP:20260422T105448
CREATED:20230320T160258Z
LAST-MODIFIED:20260409T220110Z
UID:1553-1777631400-1777635000@www.spld.org
SUMMARY:Kite Festival Story time with Ms. Brittany
DESCRIPTION:The Summer Reading Kite Festival Story time is Today! \nFree Clothes! Free Pastries/Snacks! A Craft AND a Story!!!!! Let’s Go! \nJoin Ms. Brittany every Friday from 10:30 to 11:30 AM for Story time and Kite Decorating Crafts!
URL:https://www.spld.org/event/storytime-with-mrs-flamingo-2/
LOCATION:SPLD-Meeting Room\, 415 Walsen Ave\, Walsenburg\, CO\, 81089\, United States
CATEGORIES:Adults,Home Page,Kids
ATTACH;FMTTYPE=image/png:https://www.spld.org/wp-content/uploads/2023/03/Kite-Festival-Storytime-Flyer.png
END:VEVENT
BEGIN:VEVENT
DTSTART;TZID=America/Denver:20260501T130000
DTEND;TZID=America/Denver:20260501T140000
DTSTAMP:20260422T105448
CREATED:20251105T202226Z
LAST-MODIFIED:20260407T205729Z
UID:3401-1777640400-1777644000@www.spld.org
SUMMARY:Mommy & Me Physical Wellness Program
DESCRIPTION:Please join Ms. Brittany today for the Mommy & Me Physical Wellness Program! This SPLD Program invites the whole family (ALL ages are invited) to support our mothers to be physically\, mentally\, and spiritually fit in 2026! Held every Monday and Friday from 1-2 PM in the SPLD Community Room. This program features interchangeable strength-training routines for moms\, including meditation\, yoga\, strength-training\, and nature walks at Lathrop State Park – Colorado Parks and Wildlife if weather permits. Please bring a yoga mat and water bottle. We look forward to seeing you there!
URL:https://www.spld.org/event/mommy-me-yoga-4/
LOCATION:Spanish Peaks Library\, 415 Walsen Ave\, Walsenburg\, CO\, 81089\, United States
CATEGORIES:Adults,Home Page,Kids,Teens
ATTACH;FMTTYPE=image/jpeg:https://www.spld.org/wp-content/uploads/2025/11/Physical-Wellness-Program.jpg
END:VEVENT
BEGIN:VEVENT
DTSTART;TZID=America/Denver:20260502T110000
DTEND;TZID=America/Denver:20260502T130000
DTSTAMP:20260422T105448
CREATED:20231203T230916Z
LAST-MODIFIED:20260301T213831Z
UID:2067-1777719600-1777726800@www.spld.org
SUMMARY:Gardner Bookmobile is OPEN
DESCRIPTION:We have… \nBooks: Fiction (for all ages)\, Non-Fiction (for all ages)\, Audio Books and Playaways \nDVDs \nMagazines \nBlack and White Copies and printing available \nFriends of the Library Book Nook with books for sale
URL:https://www.spld.org/event/gardner-bookmobile-is-open-7/
LOCATION:Gardner SPLD Bookmobile\, 28 County Road 632\, Gardner
CATEGORIES:Adults,Home Page,Kids,Teens
ATTACH;FMTTYPE=image/png:https://www.spld.org/wp-content/uploads/2023/11/Bookmobile-updated-hours-sign-1.png
END:VEVENT
BEGIN:VEVENT
DTSTART;TZID=America/Denver:20260502T130000
DTEND;TZID=America/Denver:20260502T150000
DTSTAMP:20260422T105448
CREATED:20250606T225105Z
LAST-MODIFIED:20260409T220343Z
UID:3039-1777726800-1777734000@www.spld.org
SUMMARY:3rd Annual Kite Festival
DESCRIPTION:Join us Today\, May 2nd\, from 1-3 PM at Fiesta Park for the 3rd Annual Kite Festival! Bring your decorated kites\, or get a free one at the field thanks to the Walsenburg Craft Emporium!!! \nThank you to the Walsenburg Craft Emporium\, Gub Gub’s Pizza and Ice Cream\, and Local Roots Vintage Market for sponsoring this year’s Kite Festival!
URL:https://www.spld.org/event/spanish-peaks-librarys-kite-festival/
LOCATION:Fiesta Park\, 928 Russell Street\, Walsenburg\, Colorado\, 81089
CATEGORIES:Adults,Home Page,Kids,Teens
ATTACH;FMTTYPE=image/png:https://www.spld.org/wp-content/uploads/2025/06/3rd-Annual-Kite-Festival.png
END:VEVENT
BEGIN:VEVENT
DTSTART;TZID=America/Denver:20260504T130000
DTEND;TZID=America/Denver:20260504T140000
DTSTAMP:20260422T105448
CREATED:20251105T201423Z
LAST-MODIFIED:20260415T151542Z
UID:3393-1777899600-1777903200@www.spld.org
SUMMARY:Mommy & Me Physical Wellness Program
DESCRIPTION:Please join Ms. Brittany today for the Mommy & Me Physical Wellness Program! This SPLD Program invites the whole family (ALL ages are invited) to support our mothers to be physically\, mentally\, and spiritually fit in 2026! Held every Monday and Friday from 1-2 PM in the SPLD Community Room. This program features interchangeable strength-training routines for moms\, including meditation\, yoga\, strength-training\, and nature walks at Lathrop State Park – Colorado Parks and Wildlife if weather permits. Please bring a yoga mat and water bottle. We look forward to seeing you there!
URL:https://www.spld.org/event/mommy-me-yoga/
LOCATION:Spanish Peaks Library\, 415 Walsen Ave\, Walsenburg\, CO\, 81089\, United States
CATEGORIES:Adults,Home Page,Kids,Teens
ATTACH;FMTTYPE=image/jpeg:https://www.spld.org/wp-content/uploads/2025/11/Physical-Wellness-Program.jpg
END:VEVENT
BEGIN:VEVENT
DTSTART;TZID=America/Denver:20260508T103000
DTEND;TZID=America/Denver:20260508T113000
DTSTAMP:20260422T105448
CREATED:20230320T155428Z
LAST-MODIFIED:20260301T213728Z
UID:1545-1778236200-1778239800@www.spld.org
SUMMARY:Story time with Ms. Brittany
DESCRIPTION:Free Clothes! Free Pastries/Snacks! A Craft AND a Story!!!!! Let’s Go! \nJoin Ms. Brittany every Friday from 10:30 to 11:30 AM for Story time and Crafts!
URL:https://www.spld.org/event/storytime-with-mrs-flamingo/
LOCATION:SPLD-Meeting Room\, 415 Walsen Ave\, Walsenburg\, CO\, 81089\, United States
CATEGORIES:Adults,Home Page,Kids
ATTACH;FMTTYPE=image/png:https://www.spld.org/wp-content/uploads/2024/03/Colorful-Flat-Welcome-to-Our-Library-Banner.png
END:VEVENT
BEGIN:VEVENT
DTSTART;TZID=America/Denver:20260509T110000
DTEND;TZID=America/Denver:20260509T130000
DTSTAMP:20260422T105448
CREATED:20231202T183715Z
LAST-MODIFIED:20260311T155438Z
UID:2033-1778324400-1778331600@www.spld.org
SUMMARY:Gardner Bookmobile is OPEN
DESCRIPTION:We have… \nBooks: Fiction (for all ages)\, Non-Fiction (for all ages)\, Audio Books and Playaways \nDVDs \nMagazines \nBlack and White Copies and printing available \nFriends of the Library Book Nook with books for sale \n 
URL:https://www.spld.org/event/gardner-bookmobile-is-open-6/
LOCATION:Gardner SPLD Bookmobile\, 28 County Road 632\, Gardner
CATEGORIES:Adults,Home Page,Kids,Teens
ATTACH;FMTTYPE=image/png:https://www.spld.org/wp-content/uploads/2023/11/Bookmobile-updated-hours-sign-1.png
END:VEVENT
BEGIN:VEVENT
DTSTART;TZID=America/Denver:20260515T103000
DTEND;TZID=America/Denver:20260515T113000
DTSTAMP:20260422T105448
CREATED:20230403T180451Z
LAST-MODIFIED:20260315T181742Z
UID:1617-1778841000-1778844600@www.spld.org
SUMMARY:Story time with Ms. Brittany
DESCRIPTION:Free Clothes! Free Pastries/Snacks! A Craft AND a Story!!!!! Let’s Go! \nJoin Ms. Brittany every Friday from 10:30 to 11:30 AM for Story time and Crafts!
URL:https://www.spld.org/event/storytime-with-mrs-flamingo-3/
LOCATION:SPLD-Meeting Room\, 415 Walsen Ave\, Walsenburg\, CO\, 81089\, United States
CATEGORIES:Adults,Home Page,Kids
ATTACH;FMTTYPE=image/png:https://www.spld.org/wp-content/uploads/2024/03/Colorful-Flat-Welcome-to-Our-Library-Banner.png
END:VEVENT
BEGIN:VEVENT
DTSTART;TZID=America/Denver:20260516T110000
DTEND;TZID=America/Denver:20260516T130000
DTSTAMP:20260422T105448
CREATED:20231108T215531Z
LAST-MODIFIED:20260315T182908Z
UID:1970-1778929200-1778936400@www.spld.org
SUMMARY:Gardner Bookmobile is OPEN
DESCRIPTION:We have… \nBooks: Fiction (for all ages)\, Non-Fiction (for all ages)\, Audio Books and Playaways \nDVDs \nMagazines \nBlack and White Copies and printing available \nFriends of the Library Book Nook with books for sale
URL:https://www.spld.org/event/gardner-bookmobile-is-open-5/
LOCATION:Gardner SPLD Bookmobile\, 28 County Road 632\, Gardner
CATEGORIES:Adults,Home Page,Kids,Teens
ATTACH;FMTTYPE=image/png:https://www.spld.org/wp-content/uploads/2023/11/Bookmobile-updated-hours-sign-1.png
END:VEVENT
BEGIN:VEVENT
DTSTART;TZID=America/Denver:20260517T140000
DTEND;TZID=America/Denver:20260517T160000
DTSTAMP:20260422T105448
CREATED:20250429T231626Z
LAST-MODIFIED:20260415T160751Z
UID:2998-1779026400-1779033600@www.spld.org
SUMMARY:3rd Annual Poetry Party
DESCRIPTION:Enjoy an afternoon of local voices and creative expression as the top 3 winners in both the Adults\, Teens\, and Tween & Kids categories share their winning poems! \nFree refreshments! \nAll Ages Welcome! \nCome Celebrate the Poets in our Community!
URL:https://www.spld.org/event/2nd-annual-poetry-party/
LOCATION:SPLD-Meeting Room\, 415 Walsen Ave\, Walsenburg\, CO\, 81089\, United States
CATEGORIES:Adults,Home Page,Kids,Teens
ATTACH;FMTTYPE=image/png:https://www.spld.org/wp-content/uploads/2025/04/2026-3rd-Annual-Poetry-Patry-Post-1.png
END:VEVENT
BEGIN:VEVENT
DTSTART;TZID=America/Denver:20260522T103000
DTEND;TZID=America/Denver:20260522T233000
DTSTAMP:20260422T105448
CREATED:20230403T181649Z
LAST-MODIFIED:20260322T162256Z
UID:1627-1779445800-1779492600@www.spld.org
SUMMARY:Story time with Ms. Brittany
DESCRIPTION:Free Clothes! Free Pastries/Snacks! A Craft AND a Story!!!!! Let’s Go! \nJoin Ms. Brittany every Friday from 10:30 to 11:30 AM for Story time and Crafts!
URL:https://www.spld.org/event/storytime-with-mrs-flamingo-4/
LOCATION:SPLD-Meeting Room\, 415 Walsen Ave\, Walsenburg\, CO\, 81089\, United States
CATEGORIES:Adults,Home Page,Kids
ATTACH;FMTTYPE=image/png:https://www.spld.org/wp-content/uploads/2024/03/Colorful-Flat-Welcome-to-Our-Library-Banner.png
END:VEVENT
END:VCALENDAR